BEGIN:VCALENDAR
VERSION:2.0
PRODID:-//Official Website of the Morris Performing Arts Center - ECPv6.15.20//NONSGML v1.0//EN
CALSCALE:GREGORIAN
METHOD:PUBLISH
X-WR-CALNAME:Official Website of the Morris Performing Arts Center
X-ORIGINAL-URL:https://morriscenter.org
X-WR-CALDESC:Events for Official Website of the Morris Performing Arts Center
REFRESH-INTERVAL;VALUE=DURATION:PT1H
X-Robots-Tag:noindex
X-PUBLISHED-TTL:PT1H
BEGIN:VTIMEZONE
TZID:America/Indiana/Indianapolis
BEGIN:DAYLIGHT
TZOFFSETFROM:-0500
TZOFFSETTO:-0400
TZNAME:EDT
DTSTART:20210314T070000
END:DAYLIGHT
BEGIN:STANDARD
TZOFFSETFROM:-0400
TZOFFSETTO:-0500
TZNAME:EST
DTSTART:20211107T060000
END:STANDARD
BEGIN:DAYLIGHT
TZOFFSETFROM:-0500
TZOFFSETTO:-0400
TZNAME:EDT
DTSTART:20220313T070000
END:DAYLIGHT
BEGIN:STANDARD
TZOFFSETFROM:-0400
TZOFFSETTO:-0500
TZNAME:EST
DTSTART:20221106T060000
END:STANDARD
BEGIN:DAYLIGHT
TZOFFSETFROM:-0500
TZOFFSETTO:-0400
TZNAME:EDT
DTSTART:20230312T070000
END:DAYLIGHT
BEGIN:STANDARD
TZOFFSETFROM:-0400
TZOFFSETTO:-0500
TZNAME:EST
DTSTART:20231105T060000
END:STANDARD
END:VTIMEZONE
BEGIN:VEVENT
DTSTART;TZID=America/Indiana/Indianapolis:20220617T114500
DTEND;TZID=America/Indiana/Indianapolis:20220617T131500
DTSTAMP:20260420T094726
CREATED:20220510T123143Z
LAST-MODIFIED:20220620T115840Z
UID:10000038-1655466300-1655471700@morriscenter.org
SUMMARY:Fridays by the Fountain
DESCRIPTION:[vc_row row_height_percent=”0″ override_padding=”yes” h_padding=”0″ top_padding=”2″ bottom_padding=”4″ overlay_alpha=”50″ gutter_size=”3″ column_width_percent=”100″ shift_y=”0″ z_index=”0″ uncode_shortcode_id=”116192″][vc_column column_width_percent=”100″ gutter_size=”3″ overlay_alpha=”50″ shift_x=”0″ shift_y=”0″ shift_y_down=”0″ z_index=”0″ medium_width=”0″ mobile_width=”0″ width=”1/1″ uncode_shortcode_id=”200278″][vc_column_text uncode_shortcode_id=”190670″]Got lunch plans for your Fridays this summer? Fridays by the Fountain\, a 13-week lunchtime music concert series in Downtown South Bend\, returns to the Morris Performing Arts Center starting June 3rd. \nHeld on Fridays between 11:45 a.m. and 1:15 p.m.\, each concert is free and takes place at the Jon R. Hunt Plaza in front of the Morris Performing Arts Center\, 211 N. Michigan St. and showcases live entertainment from area blues\, jazz\, rock\, R&B\, country\, folk\, and Irish music bands. \nThis year’s lineup includes: \n\nJune 3 – Kennedy’s Kitchen\nJune 10 – Oblates of Blues\nJune 17 – Qsonics\nJune 24 – Hey Annie\nJuly 1 – Memphis Underground\nJuly 8 – High Life\nJuly 15 – RockDogs\nJuly 22 – Southside Denny\nJuly 29 – Van Dyke Revue\nAugust 5 – Whistle Pigs\nAugust 12 – PT & the Cruisers\nAugust 19 – Don Savoie: Blue-eyes Soul\nAugust 26 – The Music Village\nSeptember 2 – RAIN DATE\n\nGuests can bring their lunches or buy food from vendors on site. Although there will be tables and chairs set up at the plaza for concert attendees\, people are allowed to bring their own chairs or blankets to spread out on the lawn. \nNo tax dollars are used to fund Fridays by the Fountain. The 2022 concert series is presented by the Morris in conjunction with U93 and WNDU. Supporting sponsors underwrite the cost of the bands. [/vc_column_text][/vc_column][/vc_row]
URL:https://morriscenter.org/event/fridays-by-the-fountain/2022-06-17/
LOCATION:Morris Performing Arts Center\, 211 N. Michigan Street\, South Bend\, IN\, 46601\, United States
CATEGORIES:Concerts
ATTACH;FMTTYPE=image/png:https://morriscenter.org/wp-content/uploads/2022/05/Untitled-design-7.png
END:VEVENT
BEGIN:VEVENT
DTSTART;TZID=America/Indiana/Indianapolis:20220617T190000
DTEND;TZID=America/Indiana/Indianapolis:20220617T190000
DTSTAMP:20260420T094726
CREATED:20211118T155911Z
LAST-MODIFIED:20211203T153237Z
UID:10000095-1655492400-1655492400@morriscenter.org
SUMMARY:Leanne Morgan–Big Panty Tour
DESCRIPTION:[vc_row row_height_percent=”0″ override_padding=”yes” h_padding=”0″ top_padding=”2″ bottom_padding=”4″ overlay_alpha=”50″ gutter_size=”3″ column_width_percent=”100″ shift_y=”0″ z_index=”0″ uncode_shortcode_id=”164610″ shape_dividers=””][vc_column column_width_percent=”100″ gutter_size=”3″ overlay_alpha=”50″ shift_x=”0″ shift_y=”0″ shift_y_down=”0″ z_index=”0″ medium_width=”0″ mobile_width=”0″ width=”1/1″ uncode_shortcode_id=”200278″][vc_column_text uncode_shortcode_id=”129813″]Leanne knew at the age of 5 that she wanted to be a comedian\, but being born and raised in Middle Tennessee in a farming community of 500 people\, she didn’t know how in the world it was going to happen. She grew up loving comedy and her very funny and encouraging mother\, Lucille\, allowed her to skip kindergarten to stay home and watch Hollywood Squares and Match Game. At age 10\, after “killing” in the 4-H talent show\, she was bitten by the performance bug. \nAfter graduating from high school\, Leanne was feeling the lure of Hollywood\, but the idea of moving was unheard of and too daunting for a country girl who had never been away from home\, so she enrolled in college at The University of Tennessee\, where she graduated (by the skin of her teeth) with a degree in Child and Family Studies. Her greatest desire in life was to be a mother. She married her husband Chuck and they moved to Bean Station\, TN in the beautiful foothills of the Appalachian Mountains. Chuck owned a mobile home refurbishing business and Leanne worked with him…for a very short time. Chuck liked to boss and Leanne wasn’t one to be bossed\, so she decided to get pregnant instead! \nAfter having her first baby\, she was in absolute heaven\, but she still had a tug in her heart to do stand-up. To make a little spending money\, Leanne started selling jewelry at home parties. She was supposed to talk about the jewelry but instead talked about breastfeeding\, hemorrhoids and being a mama. Women thought she was funny\, somebody peed on a couch and before she knew it she was booked out a year in advance. The company saw what was happening and asked her to speak at their sales rallies. It was there that women started saying\, “you need to do stand up!” That gave Leanne the courage to really go for it! \nHer husband sold his business and went to work for a large company that took them to San Antonio. Leanne finally had access to comedy clubs and things quickly started to happen. She appeared on The View’s “Hilarious Housewives” segment\, Nick at Nite’s Funniest Mom and has toured with the Southern Fried Chicks. Leanne continued to work theaters\, clubs and corporate events while raising three children with her husband back in Tennessee\, which she still calls home. \nLeanne’s storied career has landed her on stage at the Montreal Comedy Festival and has brought her development deals for her own sitcom with ABC and Warner Brothers\, writer/producer Matt Williams (“Rosanne” and “Home Improvement”)\,TV Land and currently with Sony Television. I guess you could say she’s the Mrs. Maisel of Appalachia! \nClips from Leanne’s Dry Bar Comedy Special “So Yummy” garnered over 50 million views and opened her up to a whole new audience. Her fan base continued to grow when she shared heartfelt messages and Jell-O salad recipes from her back porch during the pandemic\, and assured people that “everything’s gonna be alright.” Her relatability makes everyone feel as if she’s talking directly to them! \nNow after 22 years in comedy\, Leanne is embarking on her 100-city Big Panty Tour across the U.S. with Outback Presents. Now that her children are grown\, Leanne is so grateful to have this opportunity at this time in her life. And to top it all off\, she’s got a new grandbaby….SO YUMMY![/vc_column_text][vc_button button_color=”accent” size=”btn-lg” border_animation=”btn-ripple-in” custom_typo=”yes” font_family=”font-762333″ font_weight=”100″ text_transform=”uppercase” border_width=”0″ link=”url:https%3A%2F%2Fwww.etix.com%2Fticket%2Fp%2F2771728%2Fleanne-morgan-the-big-panty-tour-south-bend-morris-performing-arts-center” button_color_type=”uncode-palette” uncode_shortcode_id=”182471″]Buy Tickets Now[/vc_button][/vc_column][/vc_row]
URL:https://morriscenter.org/event/leanne-morgan-big-panty-tour/
LOCATION:Morris Performing Arts Center\, 211 N. Michigan Street\, South Bend\, IN\, 46601\, United States
CATEGORIES:Performance,Comedy
ATTACH;FMTTYPE=image/jpeg:https://morriscenter.org/wp-content/uploads/2021/11/LeanneMorgan_SouthBend_1920x1080.jpg
END:VEVENT
BEGIN:VEVENT
DTSTART;TZID=America/Indiana/Indianapolis:20220618T200000
DTEND;TZID=America/Indiana/Indianapolis:20220618T200000
DTSTAMP:20260420T094726
CREATED:20220405T145503Z
LAST-MODIFIED:20220617T135213Z
UID:10000032-1655582400-1655582400@morriscenter.org
SUMMARY:Cancelled - Keith Sweat
DESCRIPTION:[vc_row row_height_percent=”0″ override_padding=”yes” h_padding=”0″ top_padding=”2″ bottom_padding=”4″ overlay_alpha=”50″ gutter_size=”3″ column_width_percent=”100″ shift_y=”0″ z_index=”0″ uncode_shortcode_id=”180731″][vc_column column_width_percent=”100″ gutter_size=”3″ overlay_alpha=”50″ shift_x=”0″ shift_y=”0″ shift_y_down=”0″ z_index=”0″ medium_width=”0″ mobile_width=”0″ width=”1/1″ uncode_shortcode_id=”200278″][vc_column_text uncode_shortcode_id=”932992″]The Keith Sweat show scheduled for Saturday\, June 18\, 2022\, has been postponed due to illness. Keith Sweat\, his band\, and the show’s promoter expressed sincere apologies and will work to bring this show back again in the future. \nThe Morris will issue refunds for all tickets. Refunds will be automatically processed if you paid via credit card. If you paid at the Morris box office\, you may return the Morris box office to obtain your refund. Box Office hours are Tuesday\, Wednesday\, & Thursday\, 10:00am-2:00pm or call (574) 235-9190. \nIf you have any questions or concerns\, please contact the Morris Box Office at info@tgs.221.myftpupload.com. \nThank you for your patience and understanding.[/vc_column_text][vc_button button_color=”accent” size=”btn-lg” border_animation=”btn-ripple-in” custom_typo=”yes” font_family=”font-762333″ font_weight=”100″ text_transform=”uppercase” border_width=”0″ button_color_type=”uncode-palette” uncode_shortcode_id=”125223″]Cancelled[/vc_button][/vc_column][/vc_row]
URL:https://morriscenter.org/event/keith-sweat/
LOCATION:Morris Performing Arts Center\, 211 N. Michigan Street\, South Bend\, IN\, 46601\, United States
CATEGORIES:Concerts
ATTACH;FMTTYPE=image/jpeg:https://morriscenter.org/wp-content/uploads/2022/04/Keith-Sweat-Office-Ticket-Page-Header-1280-x-768-e1649187315395.jpg
END:VEVENT
END:VCALENDAR