BEGIN:VCALENDAR
VERSION:2.0
PRODID:-//Official Website of the Morris Performing Arts Center - ECPv6.15.20//NONSGML v1.0//EN
CALSCALE:GREGORIAN
METHOD:PUBLISH
X-ORIGINAL-URL:https://morriscenter.org
X-WR-CALDESC:Events for Official Website of the Morris Performing Arts Center
REFRESH-INTERVAL;VALUE=DURATION:PT1H
X-Robots-Tag:noindex
X-PUBLISHED-TTL:PT1H
BEGIN:VTIMEZONE
TZID:America/Indiana/Indianapolis
BEGIN:DAYLIGHT
TZOFFSETFROM:-0500
TZOFFSETTO:-0400
TZNAME:EDT
DTSTART:20220313T070000
END:DAYLIGHT
BEGIN:STANDARD
TZOFFSETFROM:-0400
TZOFFSETTO:-0500
TZNAME:EST
DTSTART:20221106T060000
END:STANDARD
BEGIN:DAYLIGHT
TZOFFSETFROM:-0500
TZOFFSETTO:-0400
TZNAME:EDT
DTSTART:20230312T070000
END:DAYLIGHT
BEGIN:STANDARD
TZOFFSETFROM:-0400
TZOFFSETTO:-0500
TZNAME:EST
DTSTART:20231105T060000
END:STANDARD
BEGIN:DAYLIGHT
TZOFFSETFROM:-0500
TZOFFSETTO:-0400
TZNAME:EDT
DTSTART:20240310T070000
END:DAYLIGHT
BEGIN:STANDARD
TZOFFSETFROM:-0400
TZOFFSETTO:-0500
TZNAME:EST
DTSTART:20241103T060000
END:STANDARD
END:VTIMEZONE
BEGIN:VEVENT
DTSTART;TZID=America/Indiana/Indianapolis:20230503T193000
DTEND;TZID=America/Indiana/Indianapolis:20230503T193000
DTSTAMP:20260422T205429
CREATED:20220603T170041Z
LAST-MODIFIED:20230418T144602Z
UID:10000054-1683142200-1683142200@morriscenter.org
SUMMARY:South Bend Symphony Orchestra + Yo-Yo Ma
DESCRIPTION:[vc_row row_height_percent=”0″ override_padding=”yes” h_padding=”0″ top_padding=”2″ bottom_padding=”4″ overlay_alpha=”50″ gutter_size=”3″ column_width_percent=”100″ shift_y=”0″ z_index=”0″ uncode_shortcode_id=”153299″ shape_dividers=””][vc_column column_width_percent=”100″ gutter_size=”3″ overlay_alpha=”50″ shift_x=”0″ shift_y=”0″ shift_y_down=”0″ z_index=”0″ medium_width=”0″ mobile_width=”0″ width=”1/1″ uncode_shortcode_id=”200278″][vc_column_text uncode_shortcode_id=”952224″] \nThe South Bend Symphony Orchestra welcomes the return of world-renowned cellist Yo-Yo Ma on Wednesday\, May 3\, 2023\, at Morris Performing Arts Center. For one night only\, witness the ultimate artistic mastery of Yo-Yo Ma\, one of classical music’s prominent artists and ambassadors\, perform with the full Symphony for the first time since 1979. \nSubscribers have exclusive access to get the best seats for this extraordinary concert. Get the best prices and early access when you become a Symphony subscriber! Subscribing is simple by visiting www.southbendsymphony.org/tickets or calling 574-232-6343 ext. 1. Public on-sale begins June 21\, 2022. \n[/vc_column_text][vc_button button_color=”accent” size=”btn-lg” border_animation=”btn-ripple-in” custom_typo=”yes” font_family=”font-762333″ font_weight=”100″ text_transform=”uppercase” border_width=”0″ link=”url:https%3A%2F%2Fwww.etix.com%2Fticket%2Fp%2F3298870%2Fyoyo-ma-south-bend-morris-performing-arts-center|target:_blank” button_color_type=”uncode-palette” uncode_shortcode_id=”186379″]Buy Tickets Now[/vc_button][/vc_column][/vc_row]
URL:https://morriscenter.org/event/the-south-bend-symphony-orchestra-presents-yo-yo-ma/
LOCATION:Morris Performing Arts Center\, 211 N. Michigan Street\, South Bend\, IN\, 46601\, United States
CATEGORIES:Concerts,Symphony
ATTACH;FMTTYPE=image/jpeg:https://morriscenter.org/wp-content/uploads/2022/06/341065184_786300942831305_5330757783301339276_n.jpeg
END:VEVENT
BEGIN:VEVENT
DTSTART;TZID=America/Indiana/Indianapolis:20230508T200000
DTEND;TZID=America/Indiana/Indianapolis:20230508T200000
DTSTAMP:20260422T205429
CREATED:20230217T160838Z
LAST-MODIFIED:20230217T160838Z
UID:10000138-1683576000-1683576000@morriscenter.org
SUMMARY:Brit Floyd: 50th Anniversary Darkside of the Moon
DESCRIPTION:[vc_row row_height_percent=”0″ override_padding=”yes” h_padding=”0″ top_padding=”2″ bottom_padding=”4″ overlay_alpha=”50″ gutter_size=”3″ column_width_percent=”100″ shift_y=”0″ z_index=”0″ uncode_shortcode_id=”168309″][vc_column column_width_percent=”100″ gutter_size=”3″ overlay_alpha=”50″ shift_x=”0″ shift_y=”0″ shift_y_down=”0″ z_index=”0″ medium_width=”0″ mobile_width=”0″ width=”1/1″ uncode_shortcode_id=”200278″][vc_column_text uncode_shortcode_id=”742582″] \nBrit Floyd returns to the stage in 2023 to perform a brand-new production celebrating 50 years of the ground-breaking and iconic musical masterpiece The Dark Side of the Moon. The show will feature classic tracks from the album such as Time\, Money\, Us and Them and The Great Gig in the Sky.  \nThe 2 and a half hours plus set list will also include other highlights from Pink Floyd’s magnificent catalogue of albums\, including tracks from The Wall\, Wish You Were Here\, Animals\, The Division Bell\, Medal and much more. \nTaking to the stage to perform note for note renditions of all these classic Pink Floyd tracks will be the band of musicians that audiences have become familiar with worldwide over the years\, featuring long time guitarist/vocalist and musical director Damian Darlington\, who has played over 2500 Pink Floyd music related concerts throughout his career. \nThe band will also feature Ian Cattell\, Edo Scordo\, Eva Avila and all the other expert musicians that have joined the ranks of Brit Floyd over the course of the last decade. \nHaving performed over 1\,000 shows since its launch in Liverpool\, England in January 2011\, Brit Floyd have circled the world\, sold out tours across\, Europe\, North America\, South America and the Middle East\, and performed concerts at some of the world’s greatest venues\, including London’s prestigious Royal Albert Hall; the awe inspiring Red Rocks Amphitheatre in Denver\, Colorado; the historic Greek Theatre in Los Angeles\, and ‘The Showplace of the Nation’\, NYC’s Radio City Music Hall.  \nThe Brit Floyd show has become a phenomenon\, widely regarded as the world’s greatest rock tribute show. Faithfully recreating the scale and pomp of the final 1994 Pink Floyd tour\, complete with a stunning light show\, iconic circular screen\, lasers\, inflatables and theatrics. \n[/vc_column_text][vc_button button_color=”accent” size=”btn-lg” border_animation=”btn-ripple-in” custom_typo=”yes” font_family=”font-762333″ font_weight=”100″ text_transform=”uppercase” border_width=”0″ link=”url:https%3A%2F%2Fwww.etix.com%2Fticket%2Fp%2F2370703%2Fbrit-floyd-50-years-of-dark-side-south-bend-morris-performing-arts-center%3Fpartner_id%3D430%26_ga%3D2.208020498.1822282747.1676385849-797611371.1660834977|target:_blank” button_color_type=”uncode-palette” uncode_shortcode_id=”241319″]Buy Tickets Now[/vc_button][/vc_column][/vc_row]
URL:https://morriscenter.org/event/brit-floyd-50th-anniversary-darkside-of-the-moon/
LOCATION:Morris Performing Arts Center\, 211 N. Michigan Street\, South Bend\, IN\, 46601\, United States
CATEGORIES:Performance
ATTACH;FMTTYPE=image/png:https://morriscenter.org/wp-content/uploads/2023/02/Untitled-design-21-1.png
END:VEVENT
BEGIN:VEVENT
DTSTART;TZID=America/Indiana/Indianapolis:20230513T193000
DTEND;TZID=America/Indiana/Indianapolis:20230513T193000
DTSTAMP:20260422T205429
CREATED:20220805T144346Z
LAST-MODIFIED:20230418T144738Z
UID:10000110-1684006200-1684006200@morriscenter.org
SUMMARY:RACHMANINOFF & TCHAIKOVSKY - South Bend Symphony Orchestra
DESCRIPTION:[vc_row row_height_percent=”0″ override_padding=”yes” h_padding=”0″ top_padding=”2″ bottom_padding=”4″ overlay_alpha=”50″ gutter_size=”3″ column_width_percent=”100″ shift_y=”0″ z_index=”0″ uncode_shortcode_id=”168309″][vc_column column_width_percent=”100″ gutter_size=”3″ overlay_alpha=”50″ shift_x=”0″ shift_y=”0″ shift_y_down=”0″ z_index=”0″ medium_width=”0″ mobile_width=”0″ width=”1/1″ uncode_shortcode_id=”200278″][vc_column_text uncode_shortcode_id=”259098″]Prepare for an extraordinary experience when Päivi Ekroth takes on the staggering virtuosity of Rachmaninoff’s Piano Concerto No.3 followed by a musical exploration of Tchaikovsky’s Fourth Symphony that explores the concept of Fate as an inescapable force and a blaze of sound.\nPaivi Ekroth\, piano\nRachmaninoff – Piano Concerto No. 3\nTchaikovsky – Symphony No. 4\n \nLexus proudly supports the 90th season Guest Artists.[/vc_column_text][vc_button button_color=”accent” size=”btn-lg” border_animation=”btn-ripple-in” custom_typo=”yes” font_family=”font-762333″ font_weight=”100″ text_transform=”uppercase” border_width=”0″ link=”url:https%3A%2F%2Fwww.etix.com%2Fticket%2Fp%2F6519560%2Fsouth-bend-symphonymasterworksrachmaninoff-tchaikovsky-south-bend-morris-performing-arts-center|target:_blank” button_color_type=”uncode-palette” uncode_shortcode_id=”378938″]Buy Tickets Now[/vc_button][/vc_column][/vc_row]
URL:https://morriscenter.org/event/south-bend-symphony-masterworks-rachmaninoff-tchaikovsky/
LOCATION:Morris Performing Arts Center\, 211 N. Michigan Street\, South Bend\, IN\, 46601\, United States
CATEGORIES:Symphony
ATTACH;FMTTYPE=image/jpeg:https://morriscenter.org/wp-content/uploads/2022/08/Box-Office-Header-1280-x-768_RachyTchai-scaled.jpg
END:VEVENT
END:VCALENDAR