BEGIN:VCALENDAR
VERSION:2.0
PRODID:-//Official Website of the Morris Performing Arts Center - ECPv6.15.20//NONSGML v1.0//EN
CALSCALE:GREGORIAN
METHOD:PUBLISH
X-WR-CALNAME:Official Website of the Morris Performing Arts Center
X-ORIGINAL-URL:https://morriscenter.org
X-WR-CALDESC:Events for Official Website of the Morris Performing Arts Center
REFRESH-INTERVAL;VALUE=DURATION:PT1H
X-Robots-Tag:noindex
X-PUBLISHED-TTL:PT1H
BEGIN:VTIMEZONE
TZID:America/Indiana/Indianapolis
BEGIN:DAYLIGHT
TZOFFSETFROM:-0500
TZOFFSETTO:-0400
TZNAME:EDT
DTSTART:20240310T070000
END:DAYLIGHT
BEGIN:STANDARD
TZOFFSETFROM:-0400
TZOFFSETTO:-0500
TZNAME:EST
DTSTART:20241103T060000
END:STANDARD
BEGIN:DAYLIGHT
TZOFFSETFROM:-0500
TZOFFSETTO:-0400
TZNAME:EDT
DTSTART:20250309T070000
END:DAYLIGHT
BEGIN:STANDARD
TZOFFSETFROM:-0400
TZOFFSETTO:-0500
TZNAME:EST
DTSTART:20251102T060000
END:STANDARD
BEGIN:DAYLIGHT
TZOFFSETFROM:-0500
TZOFFSETTO:-0400
TZNAME:EDT
DTSTART:20260308T070000
END:DAYLIGHT
BEGIN:STANDARD
TZOFFSETFROM:-0400
TZOFFSETTO:-0500
TZNAME:EST
DTSTART:20261101T060000
END:STANDARD
END:VTIMEZONE
BEGIN:VEVENT
DTSTART;TZID=America/Indiana/Indianapolis:20251214T143000
DTEND;TZID=America/Indiana/Indianapolis:20251214T143000
DTSTAMP:20260419T170205
CREATED:20250618T140840Z
LAST-MODIFIED:20251209T182211Z
UID:10000857-1765722600-1765722600@morriscenter.org
SUMMARY:South Bend Symphony Orchestra: Home for the Holidays
DESCRIPTION:[vc_row row_height_percent=”0″ override_padding=”yes” h_padding=”0″ top_padding=”2″ bottom_padding=”4″ overlay_alpha=”50″ gutter_size=”3″ column_width_percent=”100″ shift_y=”0″ z_index=”0″ uncode_shortcode_id=”168309″][/vc_row][vc_column column_width_percent=”100″ gutter_size=”3″ overlay_alpha=”50″ shift_x=”0″ shift_y=”0″ shift_y_down=”0″ z_index=”0″ medium_width=”0″ mobile_width=”0″ width=”1/1″ uncode_shortcode_id=”200278″][/vc_column][vc_column_text uncode_shortcode_id=”460145″]South Bend’s favorite holiday tradition returns with Maestro Alastair Willis and a choir! A spectacular program of cherished Christmas carols and memorable seasonal tunes that bring joy to all. The perfect gift for the whole family.[/vc_column_text][vc_button button_color=”accent” size=”btn-lg” border_animation=”btn-ripple-in” custom_typo=”yes” font_family=”font-762333″ font_weight=”100″ text_transform=”uppercase” border_width=”0″ link=”url:https%3A%2F%2Fwww.etix.com%2Fticket%2Fp%2F88313877%2Fsouth-bend-symphony-orchestrahome-for-the-holidays-south-bend-morris-performing-arts-center%3Fpartner_id%3D430%26gclid%3D|target:_blank” button_color_type=”uncode-palette” uncode_shortcode_id=”601170″]Buy Tickets Now[/vc_button][vc_button button_color=”accent” size=”btn-lg” border_animation=”btn-ripple-in” custom_typo=”yes” font_family=”font-762333″ font_weight=”100″ text_transform=”uppercase” border_width=”0″ link=”https://southbendsymphony.my.salesforce-sites.com/ticket/?_gl=1*tr77bs*_gcl_aw*R0NMLjE3NjAwMjQ1ODYuQ2p3S0NBand1cDNIQmhBQUVpd0E3ZXVadXQ1ZHExT2tkc09CNExEaVVwRUs0TUdRMU1TVDlJSWNiYWNTaC12Z2FQdGRrRkNzYldKUnVSb0NMVkVRQXZEX0J3RQ..*_gcl_au*NTU2MDMyODQxLjE3NjI4OTM0NzU.*_ga*MTg0MDYxOTMyOS4xNzM5NTU1MDky*_ga_7YZVTLQG1T*czE3NjM0OTY0NjQkbzQxOSRnMSR0MTc2MzQ5ODE3NCRqNTUkbDAkaDA.#/instances/a0FUd000002uY5tMAE” button_color_type=”uncode-palette” uncode_shortcode_id=”191386″]Buy Santa Brunch Tickets Here[/vc_button]
URL:https://morriscenter.org/event/south-bend-symphony-orchestra-home-for-the-holidays-2/
LOCATION:Morris Performing Arts Center\, 211 N. Michigan Street\, South Bend\, IN\, 46601\, United States
CATEGORIES:Concerts
ATTACH;FMTTYPE=image/jpeg:https://morriscenter.org/wp-content/uploads/2025/06/Home-for-the-Holidays.jpg
END:VEVENT
BEGIN:VEVENT
DTSTART;TZID=America/Indiana/Indianapolis:20251217T193000
DTEND;TZID=America/Indiana/Indianapolis:20251217T193000
DTSTAMP:20260419T170205
CREATED:20250811T135943Z
LAST-MODIFIED:20250813T125511Z
UID:10000863-1765999800-1765999800@morriscenter.org
SUMMARY:Straight No Chaser - Holiday Road
DESCRIPTION:[vc_row row_height_percent=”0″ override_padding=”yes” h_padding=”0″ top_padding=”2″ bottom_padding=”4″ overlay_alpha=”50″ gutter_size=”3″ column_width_percent=”100″ shift_y=”0″ z_index=”0″ uncode_shortcode_id=”168309″][vc_column column_width_percent=”100″ gutter_size=”3″ overlay_alpha=”50″ shift_x=”0″ shift_y=”0″ shift_y_down=”0″ z_index=”0″ medium_width=”0″ mobile_width=”0″ width=”1/1″ uncode_shortcode_id=”200278″][vc_button button_color=”accent” size=”btn-lg” border_animation=”btn-ripple-in” custom_typo=”yes” font_family=”font-762333″ font_weight=”100″ text_transform=”uppercase” border_width=”0″ link=”url:https%3A%2F%2Fwww.etix.com%2Fticket%2Fp%2F68585130%2Fstraight-no-chaserholiday-road-tour-south-bend-morris-performing-arts-center|target:_blank” button_color_type=”uncode-palette” uncode_shortcode_id=”143391″]Buy Tickets Now[/vc_button][vc_column_text uncode_shortcode_id=”982270″]If the phrase “male a cappella group” conjures up an image of students in blue blazers\, ties\, and khakis singing traditional college songs on ivied campuses… think again. Straight No Chaser (SNC) are neither strait-laced nor straight-faced\, but neither are they vaudeville-style kitsch. They have emerged as a phenomenon with a massive fanbase and a long list of accomplishments including 2 RIAA Gold Certified albums\, over 1.5 million concert tickets sold\, over 1 billion streams on Pandora\, and over 2 million albums sold worldwide. Straight No Chaser is the real deal\, the captivating sound of nine unadulterated human voices coming together to make extraordinary music that is moving people in a fundamental sense… and with a sense of humor.[/vc_column_text][/vc_column][/vc_row]
URL:https://morriscenter.org/event/straight-no-chaser-holiday-road/
LOCATION:Morris Performing Arts Center\, 211 N. Michigan Street\, South Bend\, IN\, 46601\, United States
CATEGORIES:Performance,Concerts
ATTACH;FMTTYPE=image/jpeg:https://morriscenter.org/wp-content/uploads/2025/08/thumbnail_SNC-SouthBend-1200x628-02.jpg
END:VEVENT
BEGIN:VEVENT
DTSTART;TZID=America/Indiana/Indianapolis:20251219T193000
DTEND;TZID=America/Indiana/Indianapolis:20251219T193000
DTSTAMP:20260419T170205
CREATED:20250819T140036Z
LAST-MODIFIED:20250822T121958Z
UID:10000865-1766172600-1766172600@morriscenter.org
SUMMARY:Hadestown
DESCRIPTION:[vc_row row_height_percent=”0″ override_padding=”yes” h_padding=”0″ top_padding=”2″ bottom_padding=”4″ overlay_alpha=”50″ gutter_size=”3″ column_width_percent=”100″ shift_y=”0″ z_index=”0″ uncode_shortcode_id=”168309″][vc_column column_width_percent=”100″ gutter_size=”3″ overlay_alpha=”50″ shift_x=”0″ shift_y=”0″ shift_y_down=”0″ z_index=”0″ medium_width=”0″ mobile_width=”0″ width=”1/1″ uncode_shortcode_id=”200278″][vc_button button_color=”accent” size=”btn-lg” border_animation=”btn-ripple-in” custom_typo=”yes” font_family=”font-762333″ font_weight=”100″ text_transform=”uppercase” border_width=”0″ link=”url:https%3A%2F%2Fwww.etix.com%2Fticket%2Fe%2F1053607%2Fhadestown-south-bend-morris-performing-arts-center|target:_blank” button_color_type=”uncode-palette” uncode_shortcode_id=”194315″]Buy Tickets Now[/vc_button][vc_column_text uncode_shortcode_id=”283448″]COME SEE HOW THE WORLD COULD BE. \n\n\nWelcome to HADESTOWN\, where a song can change your fate. Winner of eight 2019 Tony Awards® including Best Musical and the 2020 Grammy® Award for Best Musical Theater Album\, this acclaimed new show from celebrated singer-songwriter Anaïs Mitchell and innovative director Rachel Chavkin (Natasha\, Pierre & The Great Comet of 1812) is a love story for today… and always. \n\n\nHADESTOWN intertwines two mythic tales — that of young dreamers Orpheus and Eurydice\, and that of King Hades and his wife Persephone — as it invites you on a hell-raising journey to the underworld and back. Mitchell’s beguiling melodies and Chavkin’s poetic imagination pit industry against nature\, doubt against faith\, and fear against love. Performed by a vibrant ensemble of actors\, dancers and singers\, HADESTOWN is a haunting and hopeful theatrical experience that grabs you and never lets go. \nPLEASE NOTE: This production uses theatrical haze and strobe-like effects. \n\n\n[/vc_column_text][/vc_column][/vc_row]
URL:https://morriscenter.org/event/hadestown/2025-12-19/
LOCATION:Morris Performing Arts Center\, 211 N. Michigan Street\, South Bend\, IN\, 46601\, United States
CATEGORIES:Broadway Shows,Symphony
ATTACH;FMTTYPE=image/jpeg:https://morriscenter.org/wp-content/uploads/2025/08/2526-Logos-HADES-1980x1080-1.jpg
END:VEVENT
BEGIN:VEVENT
DTSTART;TZID=America/Indiana/Indianapolis:20251220T140000
DTEND;TZID=America/Indiana/Indianapolis:20251220T140000
DTSTAMP:20260419T170205
CREATED:20250819T140036Z
LAST-MODIFIED:20250822T121958Z
UID:10000866-1766239200-1766239200@morriscenter.org
SUMMARY:Hadestown
DESCRIPTION:[vc_row row_height_percent=”0″ override_padding=”yes” h_padding=”0″ top_padding=”2″ bottom_padding=”4″ overlay_alpha=”50″ gutter_size=”3″ column_width_percent=”100″ shift_y=”0″ z_index=”0″ uncode_shortcode_id=”168309″][vc_column column_width_percent=”100″ gutter_size=”3″ overlay_alpha=”50″ shift_x=”0″ shift_y=”0″ shift_y_down=”0″ z_index=”0″ medium_width=”0″ mobile_width=”0″ width=”1/1″ uncode_shortcode_id=”200278″][vc_button button_color=”accent” size=”btn-lg” border_animation=”btn-ripple-in” custom_typo=”yes” font_family=”font-762333″ font_weight=”100″ text_transform=”uppercase” border_width=”0″ link=”url:https%3A%2F%2Fwww.etix.com%2Fticket%2Fe%2F1053607%2Fhadestown-south-bend-morris-performing-arts-center|target:_blank” button_color_type=”uncode-palette” uncode_shortcode_id=”194315″]Buy Tickets Now[/vc_button][vc_column_text uncode_shortcode_id=”283448″]COME SEE HOW THE WORLD COULD BE. \n\n\nWelcome to HADESTOWN\, where a song can change your fate. Winner of eight 2019 Tony Awards® including Best Musical and the 2020 Grammy® Award for Best Musical Theater Album\, this acclaimed new show from celebrated singer-songwriter Anaïs Mitchell and innovative director Rachel Chavkin (Natasha\, Pierre & The Great Comet of 1812) is a love story for today… and always. \n\n\nHADESTOWN intertwines two mythic tales — that of young dreamers Orpheus and Eurydice\, and that of King Hades and his wife Persephone — as it invites you on a hell-raising journey to the underworld and back. Mitchell’s beguiling melodies and Chavkin’s poetic imagination pit industry against nature\, doubt against faith\, and fear against love. Performed by a vibrant ensemble of actors\, dancers and singers\, HADESTOWN is a haunting and hopeful theatrical experience that grabs you and never lets go. \nPLEASE NOTE: This production uses theatrical haze and strobe-like effects. \n\n\n[/vc_column_text][/vc_column][/vc_row]
URL:https://morriscenter.org/event/hadestown/2025-12-20/1/
LOCATION:Morris Performing Arts Center\, 211 N. Michigan Street\, South Bend\, IN\, 46601\, United States
CATEGORIES:Broadway Shows,Symphony
ATTACH;FMTTYPE=image/jpeg:https://morriscenter.org/wp-content/uploads/2025/08/2526-Logos-HADES-1980x1080-1.jpg
END:VEVENT
BEGIN:VEVENT
DTSTART;TZID=America/Indiana/Indianapolis:20251220T193000
DTEND;TZID=America/Indiana/Indianapolis:20251220T193000
DTSTAMP:20260419T170205
CREATED:20250819T140036Z
LAST-MODIFIED:20250822T121958Z
UID:10000867-1766259000-1766259000@morriscenter.org
SUMMARY:Hadestown
DESCRIPTION:[vc_row row_height_percent=”0″ override_padding=”yes” h_padding=”0″ top_padding=”2″ bottom_padding=”4″ overlay_alpha=”50″ gutter_size=”3″ column_width_percent=”100″ shift_y=”0″ z_index=”0″ uncode_shortcode_id=”168309″][vc_column column_width_percent=”100″ gutter_size=”3″ overlay_alpha=”50″ shift_x=”0″ shift_y=”0″ shift_y_down=”0″ z_index=”0″ medium_width=”0″ mobile_width=”0″ width=”1/1″ uncode_shortcode_id=”200278″][vc_button button_color=”accent” size=”btn-lg” border_animation=”btn-ripple-in” custom_typo=”yes” font_family=”font-762333″ font_weight=”100″ text_transform=”uppercase” border_width=”0″ link=”url:https%3A%2F%2Fwww.etix.com%2Fticket%2Fe%2F1053607%2Fhadestown-south-bend-morris-performing-arts-center|target:_blank” button_color_type=”uncode-palette” uncode_shortcode_id=”194315″]Buy Tickets Now[/vc_button][vc_column_text uncode_shortcode_id=”283448″]COME SEE HOW THE WORLD COULD BE. \n\n\nWelcome to HADESTOWN\, where a song can change your fate. Winner of eight 2019 Tony Awards® including Best Musical and the 2020 Grammy® Award for Best Musical Theater Album\, this acclaimed new show from celebrated singer-songwriter Anaïs Mitchell and innovative director Rachel Chavkin (Natasha\, Pierre & The Great Comet of 1812) is a love story for today… and always. \n\n\nHADESTOWN intertwines two mythic tales — that of young dreamers Orpheus and Eurydice\, and that of King Hades and his wife Persephone — as it invites you on a hell-raising journey to the underworld and back. Mitchell’s beguiling melodies and Chavkin’s poetic imagination pit industry against nature\, doubt against faith\, and fear against love. Performed by a vibrant ensemble of actors\, dancers and singers\, HADESTOWN is a haunting and hopeful theatrical experience that grabs you and never lets go. \nPLEASE NOTE: This production uses theatrical haze and strobe-like effects. \n\n\n[/vc_column_text][/vc_column][/vc_row]
URL:https://morriscenter.org/event/hadestown/2025-12-20/2/
LOCATION:Morris Performing Arts Center\, 211 N. Michigan Street\, South Bend\, IN\, 46601\, United States
CATEGORIES:Broadway Shows,Symphony
ATTACH;FMTTYPE=image/jpeg:https://morriscenter.org/wp-content/uploads/2025/08/2526-Logos-HADES-1980x1080-1.jpg
END:VEVENT
END:VCALENDAR