BEGIN:VCALENDAR
VERSION:2.0
PRODID:-//Official Website of the Morris Performing Arts Center - ECPv6.15.20//NONSGML v1.0//EN
CALSCALE:GREGORIAN
METHOD:PUBLISH
X-ORIGINAL-URL:https://morriscenter.org
X-WR-CALDESC:Events for Official Website of the Morris Performing Arts Center
REFRESH-INTERVAL;VALUE=DURATION:PT1H
X-Robots-Tag:noindex
X-PUBLISHED-TTL:PT1H
BEGIN:VTIMEZONE
TZID:America/Indiana/Indianapolis
BEGIN:DAYLIGHT
TZOFFSETFROM:-0500
TZOFFSETTO:-0400
TZNAME:EDT
DTSTART:20240310T070000
END:DAYLIGHT
BEGIN:STANDARD
TZOFFSETFROM:-0400
TZOFFSETTO:-0500
TZNAME:EST
DTSTART:20241103T060000
END:STANDARD
BEGIN:DAYLIGHT
TZOFFSETFROM:-0500
TZOFFSETTO:-0400
TZNAME:EDT
DTSTART:20250309T070000
END:DAYLIGHT
BEGIN:STANDARD
TZOFFSETFROM:-0400
TZOFFSETTO:-0500
TZNAME:EST
DTSTART:20251102T060000
END:STANDARD
BEGIN:DAYLIGHT
TZOFFSETFROM:-0500
TZOFFSETTO:-0400
TZNAME:EDT
DTSTART:20260308T070000
END:DAYLIGHT
BEGIN:STANDARD
TZOFFSETFROM:-0400
TZOFFSETTO:-0500
TZNAME:EST
DTSTART:20261101T060000
END:STANDARD
END:VTIMEZONE
BEGIN:VEVENT
DTSTART;TZID=America/Indiana/Indianapolis:20251123T193000
DTEND;TZID=America/Indiana/Indianapolis:20251123T193000
DTSTAMP:20260422T132557
CREATED:20251001T140112Z
LAST-MODIFIED:20251002T142635Z
UID:10000892-1763926200-1763926200@morriscenter.org
SUMMARY:Mojo Brookzz
DESCRIPTION:[vc_row row_height_percent=”0″ override_padding=”yes” h_padding=”0″ top_padding=”2″ bottom_padding=”4″ overlay_alpha=”50″ gutter_size=”3″ column_width_percent=”100″ shift_y=”0″ z_index=”0″ uncode_shortcode_id=”168309″][vc_column column_width_percent=”100″ gutter_size=”3″ overlay_alpha=”50″ shift_x=”0″ shift_y=”0″ shift_y_down=”0″ z_index=”0″ medium_width=”0″ mobile_width=”0″ width=”1/1″ uncode_shortcode_id=”200278″][vc_button button_color=”accent” size=”btn-lg” border_animation=”btn-ripple-in” custom_typo=”yes” font_family=”font-762333″ font_weight=”100″ text_transform=”uppercase” border_width=”0″ link=”url:https%3A%2F%2Fwww.etix.com%2Fticket%2Fp%2F32986208%2Fmojo-brookzz-south-bend-morris-performing-arts-center|target:_blank” button_color_type=”uncode-palette” uncode_shortcode_id=”207676″]Buy Tickets Now[/vc_button][vc_column_text uncode_shortcode_id=”179476″] \nDyon “Mojo” Brooks is an actor\, writer\, producer\, and nationally acclaimed comedian starring in Tyler Perry’s upcoming Netflix series She the People\, premiering May 22\, 2025. Fresh off his sold-out Unhand Me Now Tour where he packed out legendary venues like Atlanta’s Center Stage and Chicago’s Vic\, Mojo has wrapped the arena-level We Them Ones Tour with Mike Epps and launching his next national run\, the I Know You #%$&@! Lying Tour. \nA standout on Season 21 of Wild ’N Out\, Mojo was handpicked by Nick Cannon after his viral sketches amassed over 28 million likes. With 4.5+ million followers across Instagram\, TikTok\, and Facebook\, he’s one of the most impactful digital voices in comedy today. \nBorn and raised in Chicago\, Mojo has collaborated with the Chicago Bears on Emmy-winning campaigns and appeared in music videos like Lil Durk’s Sad Songs. Off stage\, he pours his time and resources into youth development programs—committed to creating impact far beyond the spotlight. \n[/vc_column_text][/vc_column][/vc_row]
URL:https://morriscenter.org/event/mojo-brookzz/
LOCATION:Morris Performing Arts Center\, 211 N. Michigan Street\, South Bend\, IN\, 46601\, United States
CATEGORIES:Comedy
ATTACH;FMTTYPE=image/jpeg:https://morriscenter.org/wp-content/uploads/2025/10/mojo_southbend_1920x1080.jpg
END:VEVENT
BEGIN:VEVENT
DTSTART;TZID=America/Indiana/Indianapolis:20251128T193000
DTEND;TZID=America/Indiana/Indianapolis:20251128T193000
DTSTAMP:20260422T132557
CREATED:20250716T140005Z
LAST-MODIFIED:20250716T122716Z
UID:10000859-1764358200-1764358200@morriscenter.org
SUMMARY:The Bergamot - A South Shore Christmas
DESCRIPTION:[vc_row row_height_percent=”0″ override_padding=”yes” h_padding=”0″ top_padding=”2″ bottom_padding=”4″ overlay_alpha=”50″ gutter_size=”3″ column_width_percent=”100″ shift_y=”0″ z_index=”0″ uncode_shortcode_id=”168309″][vc_column column_width_percent=”100″ gutter_size=”3″ overlay_alpha=”50″ shift_x=”0″ shift_y=”0″ shift_y_down=”0″ z_index=”0″ medium_width=”0″ mobile_width=”0″ width=”1/1″ uncode_shortcode_id=”200278″][vc_column_text uncode_shortcode_id=”118875″]Recently featured in Variety Magazine\, The Bergamot returns home to South Bend for a Christmas tradition like no other. Now in its 8th year\, “A South Shore Christmas” has become a beloved annual celebration\, where founding members Nathaniel Paul Hoff and Jillian Speece—joined by their full band—share their soaring harmonies\, heartwarming stories\, timeless Christmas classics and fan-favorite originals that capture the true spirit of the season. With hundreds of performances around the world and praise from People Magazine as “the hottest emerging music talent\,” The Bergamot invites you to grab your loved ones to celebrate and kick the Christmas season off right![/vc_column_text][vc_button button_color=”accent” size=”btn-lg” border_animation=”btn-ripple-in” custom_typo=”yes” font_family=”font-762333″ font_weight=”100″ text_transform=”uppercase” border_width=”0″ link=”url:https%3A%2F%2Fwww.etix.com%2Fticket%2Fp%2F60178752%2Fthe-bergamot-a-south-shore-christmas-south-bend-morris-performing-arts-center” button_color_type=”uncode-palette” uncode_shortcode_id=”202821″]Buy Tickets Now[/vc_button][/vc_column][/vc_row]
URL:https://morriscenter.org/event/the-bergamot-a-south-shore-christmas/
LOCATION:Morris Performing Arts Center\, 211 N. Michigan Street\, South Bend\, IN\, 46601\, United States
CATEGORIES:Performance,Concerts
ATTACH;FMTTYPE=image/jpeg:https://morriscenter.org/wp-content/uploads/2025/07/EBlast-The-Bergamot-SSC_2025.jpg
END:VEVENT
END:VCALENDAR