BEGIN:VCALENDAR
VERSION:2.0
PRODID:-//Official Website of the Morris Performing Arts Center - ECPv6.15.20//NONSGML v1.0//EN
CALSCALE:GREGORIAN
METHOD:PUBLISH
X-WR-CALNAME:Official Website of the Morris Performing Arts Center
X-ORIGINAL-URL:https://morriscenter.org
X-WR-CALDESC:Events for Official Website of the Morris Performing Arts Center
REFRESH-INTERVAL;VALUE=DURATION:PT1H
X-Robots-Tag:noindex
X-PUBLISHED-TTL:PT1H
BEGIN:VTIMEZONE
TZID:America/Indiana/Indianapolis
BEGIN:DAYLIGHT
TZOFFSETFROM:-0500
TZOFFSETTO:-0400
TZNAME:EDT
DTSTART:20240310T070000
END:DAYLIGHT
BEGIN:STANDARD
TZOFFSETFROM:-0400
TZOFFSETTO:-0500
TZNAME:EST
DTSTART:20241103T060000
END:STANDARD
BEGIN:DAYLIGHT
TZOFFSETFROM:-0500
TZOFFSETTO:-0400
TZNAME:EDT
DTSTART:20250309T070000
END:DAYLIGHT
BEGIN:STANDARD
TZOFFSETFROM:-0400
TZOFFSETTO:-0500
TZNAME:EST
DTSTART:20251102T060000
END:STANDARD
BEGIN:DAYLIGHT
TZOFFSETFROM:-0500
TZOFFSETTO:-0400
TZNAME:EDT
DTSTART:20260308T070000
END:DAYLIGHT
BEGIN:STANDARD
TZOFFSETFROM:-0400
TZOFFSETTO:-0500
TZNAME:EST
DTSTART:20261101T060000
END:STANDARD
END:VTIMEZONE
BEGIN:VEVENT
DTSTART;TZID=America/Indiana/Indianapolis:20251109T190000
DTEND;TZID=America/Indiana/Indianapolis:20251109T190000
DTSTAMP:20260420T232839
CREATED:20250515T135906Z
LAST-MODIFIED:20250514T130901Z
UID:10000841-1762714800-1762714800@morriscenter.org
SUMMARY:The Traveling Salvation Show
DESCRIPTION:[vc_row row_height_percent=”0″ override_padding=”yes” h_padding=”0″ top_padding=”2″ bottom_padding=”4″ overlay_alpha=”50″ gutter_size=”3″ column_width_percent=”100″ shift_y=”0″ z_index=”0″ uncode_shortcode_id=”168309″][vc_column column_width_percent=”100″ gutter_size=”3″ overlay_alpha=”50″ shift_x=”0″ shift_y=”0″ shift_y_down=”0″ z_index=”0″ medium_width=”0″ mobile_width=”0″ width=”1/1″ uncode_shortcode_id=”200278″][vc_column_text uncode_shortcode_id=”949567″]The Traveling Salvation Show is a one-of-a-kind tribute to the legendary Neil Diamond. Often described as “Neil Diamond’s greatest hits performed by the Trans-Siberian Orchestra”\, this high energy performance captures the energy of Mr. Diamond’s live arena concerts and includes a visual spectacular with over 40 fixtures that include moving lights\, sparks\, geysers and lasers. Bottom line: it’s “so good\, so good\, so good!”. \nThe show is fronted by Brother Love himself\, Mr. Jay Henke who many fans have commented sounds uncannily like Neil Diamond. While not a visual “impersonator”\, Jay’s vocals pay a true homage to what fans of Mr. Diamond would expect to hear at a tribute show.\nNext come the incomparable Diamond Ladies\, our incredible backing trio made up of Leigha Sronce\, Courtney Walker and Liz White. There are no “auto-tune” units in sight with these ladies\, and each one of them will take center-stage at one point during the performance to pay their unique homage to Mr. Diamond. \nFinally\, the Salvation Show Band impeccably recreates the sound of Neil’s famous NDRRT musicians\, bringing the sound\, energy and arrangements that are hallmarks of that group to the Salvation Show stage. Dan Farroll and Jeff Pawlow play keys\, Jeff Lewis and Sebastian Sronce play bass and lead guitar respectively\, and Tim Ilko and Rick Turcotte handle all the drums and percussion. In terms of the show\, our guests can plan to walk away having experienced all of Neil Diamond’s greatest hits. A typical 2-set performance runs approximately 2.5 hours and includes 28 songs\, Diamond trivia\, and fun ways for the audience to participate in the show! Wearing sequins is not required\, but highly encouraged![/vc_column_text][vc_button button_color=”accent” size=”btn-lg” border_animation=”btn-ripple-in” custom_typo=”yes” font_family=”font-762333″ font_weight=”100″ text_transform=”uppercase” border_width=”0″ link=”url:https%3A%2F%2Fwww.etix.com%2Fticket%2Fp%2F47157153%2Fthe-traveling-salvation-show-south-bend-morris-performing-arts-center|target:_blank” button_color_type=”uncode-palette” uncode_shortcode_id=”142682″]Buy Tickets Now[/vc_button][/vc_column][/vc_row]
URL:https://morriscenter.org/event/the-traveling-salvation-show/
LOCATION:Morris Performing Arts Center\, 211 N. Michigan Street\, South Bend\, IN\, 46601\, United States
ATTACH;FMTTYPE=image/jpeg:https://morriscenter.org/wp-content/uploads/2025/05/Morris-TSS-1920-X-1080.jpg
END:VEVENT
BEGIN:VEVENT
DTSTART;TZID=America/Indiana/Indianapolis:20251113T190000
DTEND;TZID=America/Indiana/Indianapolis:20251113T190000
DTSTAMP:20260420T232839
CREATED:20250513T175107Z
LAST-MODIFIED:20251110T130434Z
UID:10000840-1763060400-1763060400@morriscenter.org
SUMMARY:Swan Lake by International Ballet Stars
DESCRIPTION:[vc_row row_height_percent=”0″ override_padding=”yes” h_padding=”0″ top_padding=”2″ bottom_padding=”4″ overlay_alpha=”50″ gutter_size=”3″ column_width_percent=”100″ shift_y=”0″ z_index=”0″ uncode_shortcode_id=”168309″][vc_column column_width_percent=”100″ gutter_size=”3″ overlay_alpha=”50″ shift_x=”0″ shift_y=”0″ shift_y_down=”0″ z_index=”0″ medium_width=”0″ mobile_width=”0″ width=”1/1″ uncode_shortcode_id=”200278″][vc_button button_color=”accent” size=”btn-lg” border_animation=”btn-ripple-in” custom_typo=”yes” font_family=”font-762333″ font_weight=”100″ text_transform=”uppercase” border_width=”0″ link=”url:https%3A%2F%2Fwww.etix.com%2Fticket%2Fp%2F81874896%2Fswan-lake-by-international-ballet-stars-south-bend-morris-performing-arts-center|target:_blank” button_color_type=”uncode-palette” uncode_shortcode_id=”213548″]Buy Tickets Now[/vc_button][vc_gallery el_id=”gallery-162285″ medias=”101905\,101904\,101903\,101902\,101909\,101910″ gutter_size=”3″ single_overlay_opacity=”50″ single_padding=”2″ uncode_shortcode_id=”213056″][vc_column_text uncode_shortcode_id=”207974″]Experience the world’s most in-demand ballet\, Swan Lake\, presented by Classical Arts Entertainment and performed by International Ballet Stars. \nThis full-scale production features Tchaikovsky’s legendary score and brings to life the masterpiece choreography by Marius Petipa and Lev Ivanov. Be spellbound by the iconic “Little Swans\,” Odile’s 32 fouettés\, and the graceful movements of the talented ballet dancers.\nWith over 200 custom scenery pieces adding grandeur and beauty\, this production promises to be a spectacular visual treat. \nFeaturing a brilliant cast of dancers from Italy\, France\, Georgia\, Great Britain\, Ukraine\, Japan\, Moldova\, Armenia\, and Kyrgyzstan\, this tour celebrates the diversity and global excellence of classical ballet. \nBallet in Two Acts with One Intermission.\nThe show is family-friendly and suitable for ages 3 and up. \nYou can view the full company’s 2025–2026 North American Tour route\, Digital Playbill\, and FAQ at: www.classicalarts.net[/vc_column_text][vc_single_image media=”101907″ media_width_percent=”100″ uncode_shortcode_id=”143099″][/vc_column][/vc_row]
URL:https://morriscenter.org/event/swan-lake/
LOCATION:Morris Performing Arts Center\, 211 N. Michigan Street\, South Bend\, IN\, 46601\, United States
ATTACH;FMTTYPE=image/jpeg:https://morriscenter.org/wp-content/uploads/2025/05/Movies-at-the-Morris-1920x1080-01.pdf.jpg
END:VEVENT
END:VCALENDAR