BEGIN:VCALENDAR
VERSION:2.0
PRODID:-//Official Website of the Morris Performing Arts Center - ECPv6.15.20//NONSGML v1.0//EN
CALSCALE:GREGORIAN
METHOD:PUBLISH
X-WR-CALNAME:Official Website of the Morris Performing Arts Center
X-ORIGINAL-URL:https://morriscenter.org
X-WR-CALDESC:Events for Official Website of the Morris Performing Arts Center
REFRESH-INTERVAL;VALUE=DURATION:PT1H
X-Robots-Tag:noindex
X-PUBLISHED-TTL:PT1H
BEGIN:VTIMEZONE
TZID:America/Indiana/Indianapolis
BEGIN:DAYLIGHT
TZOFFSETFROM:-0500
TZOFFSETTO:-0400
TZNAME:EDT
DTSTART:20230312T070000
END:DAYLIGHT
BEGIN:STANDARD
TZOFFSETFROM:-0400
TZOFFSETTO:-0500
TZNAME:EST
DTSTART:20231105T060000
END:STANDARD
BEGIN:DAYLIGHT
TZOFFSETFROM:-0500
TZOFFSETTO:-0400
TZNAME:EDT
DTSTART:20240310T070000
END:DAYLIGHT
BEGIN:STANDARD
TZOFFSETFROM:-0400
TZOFFSETTO:-0500
TZNAME:EST
DTSTART:20241103T060000
END:STANDARD
BEGIN:DAYLIGHT
TZOFFSETFROM:-0500
TZOFFSETTO:-0400
TZNAME:EDT
DTSTART:20250309T070000
END:DAYLIGHT
BEGIN:STANDARD
TZOFFSETFROM:-0400
TZOFFSETTO:-0500
TZNAME:EST
DTSTART:20251102T060000
END:STANDARD
END:VTIMEZONE
BEGIN:VEVENT
DTSTART;TZID=America/Indiana/Indianapolis:20240915T143000
DTEND;TZID=America/Indiana/Indianapolis:20240915T143000
DTSTAMP:20260422T185404
CREATED:20240529T020619Z
LAST-MODIFIED:20240724T143155Z
UID:10000710-1726410600-1726410600@morriscenter.org
SUMMARY:The Rite of Spring
DESCRIPTION:[vc_row row_height_percent=”0″ override_padding=”yes” h_padding=”0″ top_padding=”2″ bottom_padding=”4″ overlay_alpha=”50″ gutter_size=”3″ column_width_percent=”100″ shift_y=”0″ z_index=”0″ uncode_shortcode_id=”168309″][vc_column column_width_percent=”100″ gutter_size=”3″ overlay_alpha=”50″ shift_x=”0″ shift_y=”0″ shift_y_down=”0″ z_index=”0″ medium_width=”0″ mobile_width=”0″ width=”1/1″ uncode_shortcode_id=”200278″][vc_button button_color=”accent” size=”btn-lg” border_animation=”btn-ripple-in” custom_typo=”yes” font_family=”font-762333″ font_weight=”100″ text_transform=”uppercase” border_width=”0″ link=”url:https%3A%2F%2Fwww.etix.com%2Fticket%2Fp%2F98258932%2Fjack-mchampaigne-masterworks-seriesthe-rite-of-spring-south-bend-morris-performing-arts-center” button_color_type=”uncode-palette” uncode_shortcode_id=”199319″]Buy Tickets Now[/vc_button][vc_column_text uncode_shortcode_id=”194544″]The 92nd Season opens with Stravinsky’s iconic work\, “The Rite of Spring!” Its aggressive rhythms will captivate you and transform you. The program includes Carlos Simon’s “Four Black American Dances” and Poulenc’s “Les Biches.” \nTicket Information: Subscriptions to the Jack M. Champaigne Masterworks are now on sale and single tickets go on sale July 22\, 2024 at 10am. \nSponsor: The South Bend Symphony Orchestra is grateful to its Season long sponsors: Jack M. Champaigne for his support of the Masterworks Series and Jordan Lexus of Mishawaka for their support of guest artists throughout the 92nd Season.[/vc_column_text][/vc_column][/vc_row]
URL:https://morriscenter.org/event/the-rite-of-spring/
LOCATION:Morris Performing Arts Center\, 211 N. Michigan Street\, South Bend\, IN\, 46601\, United States
CATEGORIES:Performance,Concerts,Symphony
ATTACH;FMTTYPE=image/jpeg:https://morriscenter.org/wp-content/uploads/2024/05/2024-25-Season-Morris-Website-Images-FINALMW-I.jpg
END:VEVENT
BEGIN:VEVENT
DTSTART;TZID=America/Indiana/Indianapolis:20240916T193000
DTEND;TZID=America/Indiana/Indianapolis:20240916T193000
DTSTAMP:20260422T185404
CREATED:20240405T140156Z
LAST-MODIFIED:20240405T103705Z
UID:10000622-1726515000-1726515000@morriscenter.org
SUMMARY:Whose Live Anyway?
DESCRIPTION:[vc_row row_height_percent=”0″ override_padding=”yes” h_padding=”0″ top_padding=”2″ bottom_padding=”4″ overlay_alpha=”50″ gutter_size=”3″ column_width_percent=”100″ shift_y=”0″ z_index=”0″ uncode_shortcode_id=”168309″][vc_column column_width_percent=”100″ gutter_size=”3″ overlay_alpha=”50″ shift_x=”0″ shift_y=”0″ shift_y_down=”0″ z_index=”0″ medium_width=”0″ mobile_width=”0″ width=”1/1″ uncode_shortcode_id=”200278″][vc_column_text uncode_shortcode_id=”931245″] \nPrepare to laugh until you cry when four of the world’s most masterful improv artists take you on the high wire act of comedic acrobatics. The rapid-fire wit and non-stop jokes will have your sides splitting and begging for mercy…and also begging for more. The Morris will welcome Ryan Stiles and Greg Proops\, both seen on ABC’s “Whose Line Is It Anyway?” as well as Jeff B. Davis and Joel Murray. If you are a “Whose Line?” fan\, get ready for the same relentless laughter that you grew to love\, but without the commercial breaks! If you are new to improv comedy\, then you are in for a show unlike anything you have ever seen before. \nThis particular style of improvisational comedy is rife with countless gags\, one-liners\, hilarious games and even songs so good you will hardly believe they were made up on the spot. The teamwork and trust that it takes to perform a show with no script is apparent\, but when the best of the best do it\, they do it effortlessly. Watch them build entire scenes\, characters\, and storylines right before your eyes as they take you on a white-knuckle ride through endless chuckles. \n[/vc_column_text][vc_button button_color=”accent” size=”btn-lg” border_animation=”btn-ripple-in” custom_typo=”yes” font_family=”font-762333″ font_weight=”100″ text_transform=”uppercase” border_width=”0″ link=”url:https%3A%2F%2Fwww.etix.com%2Fticket%2Fp%2F85279306%2Fwhose-live-anyway-south-bend-morris-performing-arts-center” button_color_type=”uncode-palette” uncode_shortcode_id=”611102″]Buy Tickets Now[/vc_button][/vc_column][/vc_row]
URL:https://morriscenter.org/event/whose-live-anyway/
LOCATION:Morris Performing Arts Center\, 211 N. Michigan Street\, South Bend\, IN\, 46601\, United States
CATEGORIES:Comedy
ATTACH;FMTTYPE=image/jpeg:https://morriscenter.org/wp-content/uploads/2024/04/WLA-091624-1920x1080-Display-web.jpg
END:VEVENT
BEGIN:VEVENT
DTSTART;TZID=America/Indiana/Indianapolis:20240920T193000
DTEND;TZID=America/Indiana/Indianapolis:20240920T193000
DTSTAMP:20260422T185404
CREATED:20240305T150122Z
LAST-MODIFIED:20240404T105402Z
UID:10000620-1726860600-1726860600@morriscenter.org
SUMMARY:Bored Teachers: The Struggle Is Real! Comedy Tour
DESCRIPTION:[vc_row row_height_percent=”0″ override_padding=”yes” h_padding=”0″ top_padding=”2″ bottom_padding=”4″ overlay_alpha=”50″ gutter_size=”3″ column_width_percent=”100″ shift_y=”0″ z_index=”0″ uncode_shortcode_id=”168309″][vc_column column_width_percent=”100″ gutter_size=”3″ overlay_alpha=”50″ shift_x=”0″ shift_y=”0″ shift_y_down=”0″ z_index=”0″ medium_width=”0″ mobile_width=”0″ width=”1/1″ uncode_shortcode_id=”200278″][vc_column_text uncode_shortcode_id=”364615″]Bored Teachers are BACK with all new material on their “The Struggle is Real!” Comedy Tour. For years\, Bored Teachers Studios has brought a sense of humor to teachers around the world to ease their daily struggle in the classroom. They’ve amassed over a billion views on their viral videos on social media\, over 10 million followers\, and the #1 ranked teacher-comedy podcast—#6 of all Stand Up Comedy shows on Apple Podcasts. Since 2022\, Bored Teachers has been selling out comedy clubs and major theatres across 49 states\, bringing laughter to over 150\,000 teachers throughout the school year and has become the main event to attend in all of teacher world. Even non-teacher fans have reviewed it as one of the funniest stand up shows they’ve ever seen! The Bored Teachers Show is a comedy powerhouse that anyone who’s ever been in a classroom can relate to \nPlease note that PG-13 language is used during some sets.[/vc_column_text][vc_button button_color=”accent” size=”btn-lg” border_animation=”btn-ripple-in” custom_typo=”yes” font_family=”font-762333″ font_weight=”100″ text_transform=”uppercase” border_width=”0″ link=”url:https%3A%2F%2Fwww.etix.com%2Fticket%2Fp%2F44276920%2Fbored-teachersthe-struggle-is-realcomedy-tour-south-bend-morris-performing-arts-center” button_color_type=”uncode-palette” uncode_shortcode_id=”185061″]Buy Tickets Now[/vc_button][/vc_column][/vc_row]
URL:https://morriscenter.org/event/bored-teachers-the-struggle-is-real/
LOCATION:Morris Performing Arts Center\, 211 N. Michigan Street\, South Bend\, IN\, 46601\, United States
CATEGORIES:Comedy
ATTACH;FMTTYPE=image/jpeg:https://morriscenter.org/wp-content/uploads/2024/03/BT-TSIR-Tour-Logo.jpg
END:VEVENT
END:VCALENDAR