BEGIN:VCALENDAR
VERSION:2.0
PRODID:-//Official Website of the Morris Performing Arts Center - ECPv6.15.20//NONSGML v1.0//EN
CALSCALE:GREGORIAN
METHOD:PUBLISH
X-WR-CALNAME:Official Website of the Morris Performing Arts Center
X-ORIGINAL-URL:https://morriscenter.org
X-WR-CALDESC:Events for Official Website of the Morris Performing Arts Center
REFRESH-INTERVAL;VALUE=DURATION:PT1H
X-Robots-Tag:noindex
X-PUBLISHED-TTL:PT1H
BEGIN:VTIMEZONE
TZID:America/Indiana/Indianapolis
BEGIN:DAYLIGHT
TZOFFSETFROM:-0500
TZOFFSETTO:-0400
TZNAME:EDT
DTSTART:20240310T070000
END:DAYLIGHT
BEGIN:STANDARD
TZOFFSETFROM:-0400
TZOFFSETTO:-0500
TZNAME:EST
DTSTART:20241103T060000
END:STANDARD
BEGIN:DAYLIGHT
TZOFFSETFROM:-0500
TZOFFSETTO:-0400
TZNAME:EDT
DTSTART:20250309T070000
END:DAYLIGHT
BEGIN:STANDARD
TZOFFSETFROM:-0400
TZOFFSETTO:-0500
TZNAME:EST
DTSTART:20251102T060000
END:STANDARD
BEGIN:DAYLIGHT
TZOFFSETFROM:-0500
TZOFFSETTO:-0400
TZNAME:EDT
DTSTART:20260308T070000
END:DAYLIGHT
BEGIN:STANDARD
TZOFFSETFROM:-0400
TZOFFSETTO:-0500
TZNAME:EST
DTSTART:20261101T060000
END:STANDARD
END:VTIMEZONE
BEGIN:VEVENT
DTSTART;TZID=America/Indiana/Indianapolis:20251002T190000
DTEND;TZID=America/Indiana/Indianapolis:20251002T190000
DTSTAMP:20260420T232710
CREATED:20250823T011303Z
LAST-MODIFIED:20250919T175815Z
UID:10000872-1759431600-1759431600@morriscenter.org
SUMMARY:Ghost Tours
DESCRIPTION:[vc_row row_height_percent=”0″ override_padding=”yes” h_padding=”0″ top_padding=”2″ bottom_padding=”4″ overlay_alpha=”50″ gutter_size=”3″ column_width_percent=”100″ shift_y=”0″ z_index=”0″ uncode_shortcode_id=”168309″][vc_column column_width_percent=”100″ gutter_size=”3″ overlay_alpha=”50″ shift_x=”0″ shift_y=”0″ shift_y_down=”0″ z_index=”0″ medium_width=”0″ mobile_width=”0″ width=”1/1″ uncode_shortcode_id=”200278″][vc_button button_color=”accent” size=”btn-lg” border_animation=”btn-ripple-in” custom_typo=”yes” font_family=”font-762333″ font_weight=”100″ text_transform=”uppercase” border_width=”0″ link=”url:https%3A%2F%2Fwww.etix.com%2Fticket%2Fe%2F1053634%2Fwhispers-from-the-pastmpac-ghost-tours-2025-south-bend-morris-performing-arts-center|target:_blank” button_color_type=”uncode-palette” uncode_shortcode_id=”578415″]Buy Tickets Now[/vc_button][vc_column_text uncode_shortcode_id=”111912″]Step into the shadows of the Morris Performing Arts Center for Whispers from the Past\, a one-hour guided journey through more than a century of history\, tragedy\, and theatrical superstition. Wander beneath glittering chandeliers and into hidden spaces rarely seen by the public\, where echoes of vaudeville spirits and long-forgotten patrons linger. Hear chilling tales of mysterious footsteps\, unexplained lights\, and the ghosts who never took their final bow. From the opulent Palais Royale to the stage’s haunted wings\, each stop reveals a story that blurs the line between legend and truth. Dare to listen—you may not leave alone.[/vc_column_text][/vc_column][/vc_row]
URL:https://morriscenter.org/event/ghost-tours/2025-10-02/
LOCATION:Morris Performing Arts Center\, 211 N. Michigan Street\, South Bend\, IN\, 46601\, United States
CATEGORIES:Performance
ATTACH;FMTTYPE=image/jpeg:https://morriscenter.org/wp-content/uploads/2025/08/1920x1080-Whispers-from-the-Past.jpg
END:VEVENT
BEGIN:VEVENT
DTSTART;TZID=America/Indiana/Indianapolis:20251009T190000
DTEND;TZID=America/Indiana/Indianapolis:20251009T190000
DTSTAMP:20260420T232710
CREATED:20250823T011303Z
LAST-MODIFIED:20250919T175815Z
UID:10000873-1760036400-1760036400@morriscenter.org
SUMMARY:Ghost Tours
DESCRIPTION:[vc_row row_height_percent=”0″ override_padding=”yes” h_padding=”0″ top_padding=”2″ bottom_padding=”4″ overlay_alpha=”50″ gutter_size=”3″ column_width_percent=”100″ shift_y=”0″ z_index=”0″ uncode_shortcode_id=”168309″][vc_column column_width_percent=”100″ gutter_size=”3″ overlay_alpha=”50″ shift_x=”0″ shift_y=”0″ shift_y_down=”0″ z_index=”0″ medium_width=”0″ mobile_width=”0″ width=”1/1″ uncode_shortcode_id=”200278″][vc_button button_color=”accent” size=”btn-lg” border_animation=”btn-ripple-in” custom_typo=”yes” font_family=”font-762333″ font_weight=”100″ text_transform=”uppercase” border_width=”0″ link=”url:https%3A%2F%2Fwww.etix.com%2Fticket%2Fe%2F1053634%2Fwhispers-from-the-pastmpac-ghost-tours-2025-south-bend-morris-performing-arts-center|target:_blank” button_color_type=”uncode-palette” uncode_shortcode_id=”578415″]Buy Tickets Now[/vc_button][vc_column_text uncode_shortcode_id=”111912″]Step into the shadows of the Morris Performing Arts Center for Whispers from the Past\, a one-hour guided journey through more than a century of history\, tragedy\, and theatrical superstition. Wander beneath glittering chandeliers and into hidden spaces rarely seen by the public\, where echoes of vaudeville spirits and long-forgotten patrons linger. Hear chilling tales of mysterious footsteps\, unexplained lights\, and the ghosts who never took their final bow. From the opulent Palais Royale to the stage’s haunted wings\, each stop reveals a story that blurs the line between legend and truth. Dare to listen—you may not leave alone.[/vc_column_text][/vc_column][/vc_row]
URL:https://morriscenter.org/event/ghost-tours/2025-10-09/
LOCATION:Morris Performing Arts Center\, 211 N. Michigan Street\, South Bend\, IN\, 46601\, United States
CATEGORIES:Performance
ATTACH;FMTTYPE=image/jpeg:https://morriscenter.org/wp-content/uploads/2025/08/1920x1080-Whispers-from-the-Past.jpg
END:VEVENT
BEGIN:VEVENT
DTSTART;TZID=America/Indiana/Indianapolis:20251010T193000
DTEND;TZID=America/Indiana/Indianapolis:20251010T193000
DTSTAMP:20260420T232710
CREATED:20250817T223904Z
LAST-MODIFIED:20250903T135338Z
UID:10000864-1760124600-1760124600@morriscenter.org
SUMMARY:The Black Legacy Project
DESCRIPTION:[vc_row row_height_percent=”0″ override_padding=”yes” h_padding=”0″ top_padding=”2″ bottom_padding=”4″ overlay_alpha=”50″ gutter_size=”3″ column_width_percent=”100″ shift_y=”0″ z_index=”0″ uncode_shortcode_id=”168309″][vc_column column_width_percent=”100″ gutter_size=”3″ overlay_alpha=”50″ shift_x=”0″ shift_y=”0″ shift_y_down=”0″ z_index=”0″ medium_width=”0″ mobile_width=”0″ width=”1/1″ uncode_shortcode_id=”200278″][vc_column_text uncode_shortcode_id=”116832″]Since 2005\, Music in Common performances have been creating impactful communities of connection between artist and audience and audience with each other.  From house concerts to colleges\, performing arts centers\, and large festival stages\, Music in Common has performed for thousands of people in more than 400 communities worldwide. A nonprofit with a mission to strengthen\, empower\, and connect communities through the universal language of music\, Music in Common curates experiences for people to find common ground through music and conversation. In 2022\, Music in Common was honored as CNN Champions for Change for their work. \nOn October 10\, 2025 – exactly 20 years to the day of their founding – Music in Common will bring their Black Legacy Project to the Bendix Theatre in South Bend for an evening of meaningful engagement that includes a screening of the Black Legacy Project documentary short film\, musical performances from the project and Music in Common repertoire of songs from around the world\, and conversation. \n*Please note this performance is at the Bendix Theater at the Century Center[/vc_column_text][vc_button button_color=”accent” size=”btn-lg” border_animation=”btn-ripple-in” custom_typo=”yes” font_family=”font-762333″ font_weight=”100″ text_transform=”uppercase” border_width=”0″ link=”url:https%3A%2F%2Fwww.etix.com%2Fticket%2Fp%2F52906391%2Fblack-legacy-project-south-bend-morris-performing-arts-center|target:_blank” button_color_type=”uncode-palette” uncode_shortcode_id=”119861″]Buy Tickets Now[/vc_button][/vc_column][/vc_row]
URL:https://morriscenter.org/event/the-black-legacy-project/
LOCATION:Bendix\, 120 Doctor M.L.K. Jr Blvd\, South Bend\, IN\, 46601\, United States
CATEGORIES:Performance,Concerts
ATTACH;FMTTYPE=image/jpeg:https://morriscenter.org/wp-content/uploads/2025/08/Black-Legacy-Project-art-2.jpg
END:VEVENT
BEGIN:VEVENT
DTSTART;TZID=America/Indiana/Indianapolis:20251016T190000
DTEND;TZID=America/Indiana/Indianapolis:20251016T190000
DTSTAMP:20260420T232710
CREATED:20250114T161034Z
LAST-MODIFIED:20250114T161034Z
UID:10000759-1760641200-1760641200@morriscenter.org
SUMMARY:Beatles vs. Stones - A Musical Showdown
DESCRIPTION:[vc_row row_height_percent=”0″ override_padding=”yes” h_padding=”0″ top_padding=”2″ bottom_padding=”4″ overlay_alpha=”50″ gutter_size=”3″ column_width_percent=”100″ shift_y=”0″ z_index=”0″ uncode_shortcode_id=”168309″][vc_column column_width_percent=”100″ gutter_size=”3″ overlay_alpha=”50″ shift_x=”0″ shift_y=”0″ shift_y_down=”0″ z_index=”0″ medium_width=”0″ mobile_width=”0″ width=”1/1″ uncode_shortcode_id=”200278″][vc_button button_color=”accent” size=”btn-lg” border_animation=”btn-ripple-in” custom_typo=”yes” font_family=”font-762333″ font_weight=”100″ text_transform=”uppercase” border_width=”0″ link=”url:https%3A%2F%2Fwww.etix.com%2Fticket%2Fp%2F30430468%2Fbeatles-vsstones-south-bend-morris-performing-arts-center” button_color_type=”uncode-palette” uncode_shortcode_id=”155330″]Buy Tickets Now[/vc_button][vc_column_text uncode_shortcode_id=”338357″] \nThe British Invasion brought us the two most popular rock groups of all time\, the Beatles and the Rolling Stones\, as well as the liveliest debate in rock history – which band is the greatest? These two legendary bands will engage in an on-stage\, mash-up duel featuring internationally renowned tribute bands\, Abbey Road and Satisfaction – The International Rolling Stones Show. \n“Electrifying show!” said the O.C. Register. \n“The most unique tribute show in decades\,” said the L.A. Times. \n“The crowd was on their feet screaming the entire time!” said the Idaho Statesman. \n“If you missed The Beatles and The Rolling Stones live\, here is your second chance\,” said the San Clemente Times. \nAlternating power sets with the two bands coming together on stage for an amazing encore makes this show a once-in-a-lifetime event. \n[/vc_column_text][/vc_column][/vc_row]
URL:https://morriscenter.org/event/beatles-vs-stones-a-musical-showdown/
LOCATION:Morris Performing Arts Center\, 211 N. Michigan Street\, South Bend\, IN\, 46601\, United States
CATEGORIES:Concerts
ATTACH;FMTTYPE=image/jpeg:https://morriscenter.org/wp-content/uploads/2025/01/BvsS_1920x1005.jpg
END:VEVENT
BEGIN:VEVENT
DTSTART;TZID=America/Indiana/Indianapolis:20251017T190000
DTEND;TZID=America/Indiana/Indianapolis:20251017T190000
DTSTAMP:20260420T232710
CREATED:20250823T011303Z
LAST-MODIFIED:20250919T175815Z
UID:10000874-1760727600-1760727600@morriscenter.org
SUMMARY:Ghost Tours
DESCRIPTION:[vc_row row_height_percent=”0″ override_padding=”yes” h_padding=”0″ top_padding=”2″ bottom_padding=”4″ overlay_alpha=”50″ gutter_size=”3″ column_width_percent=”100″ shift_y=”0″ z_index=”0″ uncode_shortcode_id=”168309″][vc_column column_width_percent=”100″ gutter_size=”3″ overlay_alpha=”50″ shift_x=”0″ shift_y=”0″ shift_y_down=”0″ z_index=”0″ medium_width=”0″ mobile_width=”0″ width=”1/1″ uncode_shortcode_id=”200278″][vc_button button_color=”accent” size=”btn-lg” border_animation=”btn-ripple-in” custom_typo=”yes” font_family=”font-762333″ font_weight=”100″ text_transform=”uppercase” border_width=”0″ link=”url:https%3A%2F%2Fwww.etix.com%2Fticket%2Fe%2F1053634%2Fwhispers-from-the-pastmpac-ghost-tours-2025-south-bend-morris-performing-arts-center|target:_blank” button_color_type=”uncode-palette” uncode_shortcode_id=”578415″]Buy Tickets Now[/vc_button][vc_column_text uncode_shortcode_id=”111912″]Step into the shadows of the Morris Performing Arts Center for Whispers from the Past\, a one-hour guided journey through more than a century of history\, tragedy\, and theatrical superstition. Wander beneath glittering chandeliers and into hidden spaces rarely seen by the public\, where echoes of vaudeville spirits and long-forgotten patrons linger. Hear chilling tales of mysterious footsteps\, unexplained lights\, and the ghosts who never took their final bow. From the opulent Palais Royale to the stage’s haunted wings\, each stop reveals a story that blurs the line between legend and truth. Dare to listen—you may not leave alone.[/vc_column_text][/vc_column][/vc_row]
URL:https://morriscenter.org/event/ghost-tours/2025-10-17/1/
LOCATION:Morris Performing Arts Center\, 211 N. Michigan Street\, South Bend\, IN\, 46601\, United States
CATEGORIES:Performance
ATTACH;FMTTYPE=image/jpeg:https://morriscenter.org/wp-content/uploads/2025/08/1920x1080-Whispers-from-the-Past.jpg
END:VEVENT
BEGIN:VEVENT
DTSTART;TZID=America/Indiana/Indianapolis:20251017T210000
DTEND;TZID=America/Indiana/Indianapolis:20251017T210000
DTSTAMP:20260420T232710
CREATED:20250823T011303Z
LAST-MODIFIED:20250919T175815Z
UID:10000875-1760734800-1760734800@morriscenter.org
SUMMARY:Ghost Tours
DESCRIPTION:[vc_row row_height_percent=”0″ override_padding=”yes” h_padding=”0″ top_padding=”2″ bottom_padding=”4″ overlay_alpha=”50″ gutter_size=”3″ column_width_percent=”100″ shift_y=”0″ z_index=”0″ uncode_shortcode_id=”168309″][vc_column column_width_percent=”100″ gutter_size=”3″ overlay_alpha=”50″ shift_x=”0″ shift_y=”0″ shift_y_down=”0″ z_index=”0″ medium_width=”0″ mobile_width=”0″ width=”1/1″ uncode_shortcode_id=”200278″][vc_button button_color=”accent” size=”btn-lg” border_animation=”btn-ripple-in” custom_typo=”yes” font_family=”font-762333″ font_weight=”100″ text_transform=”uppercase” border_width=”0″ link=”url:https%3A%2F%2Fwww.etix.com%2Fticket%2Fe%2F1053634%2Fwhispers-from-the-pastmpac-ghost-tours-2025-south-bend-morris-performing-arts-center|target:_blank” button_color_type=”uncode-palette” uncode_shortcode_id=”578415″]Buy Tickets Now[/vc_button][vc_column_text uncode_shortcode_id=”111912″]Step into the shadows of the Morris Performing Arts Center for Whispers from the Past\, a one-hour guided journey through more than a century of history\, tragedy\, and theatrical superstition. Wander beneath glittering chandeliers and into hidden spaces rarely seen by the public\, where echoes of vaudeville spirits and long-forgotten patrons linger. Hear chilling tales of mysterious footsteps\, unexplained lights\, and the ghosts who never took their final bow. From the opulent Palais Royale to the stage’s haunted wings\, each stop reveals a story that blurs the line between legend and truth. Dare to listen—you may not leave alone.[/vc_column_text][/vc_column][/vc_row]
URL:https://morriscenter.org/event/ghost-tours/2025-10-17/2/
LOCATION:Morris Performing Arts Center\, 211 N. Michigan Street\, South Bend\, IN\, 46601\, United States
CATEGORIES:Performance
ATTACH;FMTTYPE=image/jpeg:https://morriscenter.org/wp-content/uploads/2025/08/1920x1080-Whispers-from-the-Past.jpg
END:VEVENT
BEGIN:VEVENT
DTSTART;TZID=America/Indiana/Indianapolis:20251021T193000
DTEND;TZID=America/Indiana/Indianapolis:20251021T193000
DTSTAMP:20260420T232710
CREATED:20250425T140123Z
LAST-MODIFIED:20251014T142048Z
UID:10000769-1761075000-1761075000@morriscenter.org
SUMMARY:The Vampire Circus
DESCRIPTION:[vc_row row_height_percent=”0″ override_padding=”yes” h_padding=”0″ top_padding=”2″ bottom_padding=”4″ overlay_alpha=”50″ gutter_size=”3″ column_width_percent=”100″ shift_y=”0″ z_index=”0″ uncode_shortcode_id=”168309″][vc_column column_width_percent=”100″ gutter_size=”3″ overlay_alpha=”50″ shift_x=”0″ shift_y=”0″ shift_y_down=”0″ z_index=”0″ medium_width=”0″ mobile_width=”0″ width=”1/1″ uncode_shortcode_id=”200278″][vc_button button_color=”accent” size=”btn-lg” border_animation=”btn-ripple-in” custom_typo=”yes” font_family=”font-762333″ font_weight=”100″ text_transform=”uppercase” border_width=”0″ link=”url:https%3A%2F%2Fwww.etix.com%2Fticket%2Fp%2F79646973%2Fvampire-circus-south-bend-morris-performing-arts-center” button_color_type=”uncode-palette” uncode_shortcode_id=”934102″]Buy Tickets Now[/vc_button][vc_column_text uncode_shortcode_id=”198445″]The Vampire Circus has been called a mix of circus cabaret and theater and is the result of a fusion of Tim Burton and Cirque Du Soleil. Enjoy a phenomenal night of live entertainment\, based on the multidisciplinary skills of international performers showcasing theater\, dance\, and gymnastics. This amazing show pushes the physical boundaries of human performance and leaves audiences amazed\, astounded\, and astonished. \nRescheduled from October 12.[/vc_column_text][/vc_column][/vc_row]
URL:https://morriscenter.org/event/the-vampire-circus/
LOCATION:Morris Performing Arts Center\, 211 N. Michigan Street\, South Bend\, IN\, 46601\, United States
CATEGORIES:Performance
ATTACH;FMTTYPE=image/jpeg:https://morriscenter.org/wp-content/uploads/2025/04/Revised-10-12-SouthBend-IN-VampireCircus-1920x1080-1.jpg
END:VEVENT
BEGIN:VEVENT
DTSTART;TZID=America/Indiana/Indianapolis:20251023T190000
DTEND;TZID=America/Indiana/Indianapolis:20251023T190000
DTSTAMP:20260420T232710
CREATED:20250823T011303Z
LAST-MODIFIED:20250919T175815Z
UID:10000876-1761246000-1761246000@morriscenter.org
SUMMARY:Ghost Tours
DESCRIPTION:[vc_row row_height_percent=”0″ override_padding=”yes” h_padding=”0″ top_padding=”2″ bottom_padding=”4″ overlay_alpha=”50″ gutter_size=”3″ column_width_percent=”100″ shift_y=”0″ z_index=”0″ uncode_shortcode_id=”168309″][vc_column column_width_percent=”100″ gutter_size=”3″ overlay_alpha=”50″ shift_x=”0″ shift_y=”0″ shift_y_down=”0″ z_index=”0″ medium_width=”0″ mobile_width=”0″ width=”1/1″ uncode_shortcode_id=”200278″][vc_button button_color=”accent” size=”btn-lg” border_animation=”btn-ripple-in” custom_typo=”yes” font_family=”font-762333″ font_weight=”100″ text_transform=”uppercase” border_width=”0″ link=”url:https%3A%2F%2Fwww.etix.com%2Fticket%2Fe%2F1053634%2Fwhispers-from-the-pastmpac-ghost-tours-2025-south-bend-morris-performing-arts-center|target:_blank” button_color_type=”uncode-palette” uncode_shortcode_id=”578415″]Buy Tickets Now[/vc_button][vc_column_text uncode_shortcode_id=”111912″]Step into the shadows of the Morris Performing Arts Center for Whispers from the Past\, a one-hour guided journey through more than a century of history\, tragedy\, and theatrical superstition. Wander beneath glittering chandeliers and into hidden spaces rarely seen by the public\, where echoes of vaudeville spirits and long-forgotten patrons linger. Hear chilling tales of mysterious footsteps\, unexplained lights\, and the ghosts who never took their final bow. From the opulent Palais Royale to the stage’s haunted wings\, each stop reveals a story that blurs the line between legend and truth. Dare to listen—you may not leave alone.[/vc_column_text][/vc_column][/vc_row]
URL:https://morriscenter.org/event/ghost-tours/2025-10-23/
LOCATION:Morris Performing Arts Center\, 211 N. Michigan Street\, South Bend\, IN\, 46601\, United States
CATEGORIES:Performance
ATTACH;FMTTYPE=image/jpeg:https://morriscenter.org/wp-content/uploads/2025/08/1920x1080-Whispers-from-the-Past.jpg
END:VEVENT
BEGIN:VEVENT
DTSTART;TZID=America/Indiana/Indianapolis:20251025T193000
DTEND;TZID=America/Indiana/Indianapolis:20251025T193000
DTSTAMP:20260420T232710
CREATED:20250618T134422Z
LAST-MODIFIED:20250618T135050Z
UID:10000851-1761420600-1761420600@morriscenter.org
SUMMARY:Harry Potter and the Prisoner of Azkaban™ in Concert
DESCRIPTION:[vc_row row_height_percent=”0″ override_padding=”yes” h_padding=”0″ top_padding=”2″ bottom_padding=”4″ overlay_alpha=”50″ gutter_size=”3″ column_width_percent=”100″ shift_y=”0″ z_index=”0″ uncode_shortcode_id=”168309″][vc_column column_width_percent=”100″ gutter_size=”3″ overlay_alpha=”50″ shift_x=”0″ shift_y=”0″ shift_y_down=”0″ z_index=”0″ medium_width=”0″ mobile_width=”0″ width=”1/1″ uncode_shortcode_id=”200278″][vc_column_text uncode_shortcode_id=”414216″]The Harry Potter Film Concert Series returns to the Morris Performing Arts Center with Harry Potter and the Prisoner of Azkaban™ in Concert\, the third film in the Harry Potter series. For two performances\, the South Bend Symphony Orchestra performs John Williams’ unforgettable score live from Harry Potter and the Prisoner of Azkaban™ while the entire film plays in high-definition![/vc_column_text][vc_button button_color=”accent” size=”btn-lg” border_animation=”btn-ripple-in” custom_typo=”yes” font_family=”font-762333″ font_weight=”100″ text_transform=”uppercase” border_width=”0″ link=”url:https%3A%2F%2Fwww.etix.com%2Fticket%2Fp%2F84611060%2Findiana-trust-pops-seriesharry-potter-and-the-prisoner-of-azkabanin-concert-south-bend-morris-performing-arts-center|target:_blank” button_color_type=”uncode-palette” uncode_shortcode_id=”872921″]Buy Tickets Now[/vc_button][/vc_column][/vc_row]
URL:https://morriscenter.org/event/harry-potter-and-the-prisoner-of-azkaban-in-concert/
LOCATION:Morris Performing Arts Center\, 211 N. Michigan Street\, South Bend\, IN\, 46601\, United States
CATEGORIES:Concerts
ATTACH;FMTTYPE=image/jpeg:https://morriscenter.org/wp-content/uploads/2025/06/POPS-1_Harry-Potter-and-the-Prisoner-of-Azkaban.jpg
END:VEVENT
BEGIN:VEVENT
DTSTART;TZID=America/Indiana/Indianapolis:20251026T143000
DTEND;TZID=America/Indiana/Indianapolis:20251026T143000
DTSTAMP:20260420T232710
CREATED:20250618T134624Z
LAST-MODIFIED:20250618T135201Z
UID:10000852-1761489000-1761489000@morriscenter.org
SUMMARY:Harry Potter and the Prisoner of Azkaban™ in Concert
DESCRIPTION:[vc_row row_height_percent=”0″ override_padding=”yes” h_padding=”0″ top_padding=”2″ bottom_padding=”4″ overlay_alpha=”50″ gutter_size=”3″ column_width_percent=”100″ shift_y=”0″ z_index=”0″ uncode_shortcode_id=”168309″][vc_column column_width_percent=”100″ gutter_size=”3″ overlay_alpha=”50″ shift_x=”0″ shift_y=”0″ shift_y_down=”0″ z_index=”0″ medium_width=”0″ mobile_width=”0″ width=”1/1″ uncode_shortcode_id=”200278″][vc_column_text uncode_shortcode_id=”257560″]The Harry Potter Film Concert Series returns to the Morris Performing Arts Center with Harry Potter and the Prisoner of Azkaban™ in Concert\, the third film in the Harry Potter series. For two performances\, the South Bend Symphony Orchestra performs John Williams’ unforgettable score live from Harry Potter and the Prisoner of Azkaban™ while the entire film plays in high-definition![/vc_column_text][vc_button button_color=”accent” size=”btn-lg” border_animation=”btn-ripple-in” custom_typo=”yes” font_family=”font-762333″ font_weight=”100″ text_transform=”uppercase” border_width=”0″ link=”url:https%3A%2F%2Fwww.etix.com%2Fticket%2Fp%2F86653143%2Findiana-trust-pops-seriesharry-potter-and-the-prisoner-of-azkabanin-concert-south-bend-morris-performing-arts-center|target:_blank” button_color_type=”uncode-palette” uncode_shortcode_id=”194481″]Buy Tickets Now[/vc_button][/vc_column][/vc_row]
URL:https://morriscenter.org/event/harry-potter-and-the-prisoner-of-azkaban-in-concert-2/
LOCATION:Morris Performing Arts Center\, 211 N. Michigan Street\, South Bend\, IN\, 46601\, United States
CATEGORIES:Concerts
ATTACH;FMTTYPE=image/jpeg:https://morriscenter.org/wp-content/uploads/2025/06/POPS-1_Harry-Potter-and-the-Prisoner-of-Azkaban.jpg
END:VEVENT
BEGIN:VEVENT
DTSTART;TZID=America/Indiana/Indianapolis:20251031T230000
DTEND;TZID=America/Indiana/Indianapolis:20251031T230000
DTSTAMP:20260420T232710
CREATED:20250823T011303Z
LAST-MODIFIED:20250919T175815Z
UID:10000878-1761951600-1761951600@morriscenter.org
SUMMARY:Ghost Tours
DESCRIPTION:[vc_row row_height_percent=”0″ override_padding=”yes” h_padding=”0″ top_padding=”2″ bottom_padding=”4″ overlay_alpha=”50″ gutter_size=”3″ column_width_percent=”100″ shift_y=”0″ z_index=”0″ uncode_shortcode_id=”168309″][vc_column column_width_percent=”100″ gutter_size=”3″ overlay_alpha=”50″ shift_x=”0″ shift_y=”0″ shift_y_down=”0″ z_index=”0″ medium_width=”0″ mobile_width=”0″ width=”1/1″ uncode_shortcode_id=”200278″][vc_button button_color=”accent” size=”btn-lg” border_animation=”btn-ripple-in” custom_typo=”yes” font_family=”font-762333″ font_weight=”100″ text_transform=”uppercase” border_width=”0″ link=”url:https%3A%2F%2Fwww.etix.com%2Fticket%2Fe%2F1053634%2Fwhispers-from-the-pastmpac-ghost-tours-2025-south-bend-morris-performing-arts-center|target:_blank” button_color_type=”uncode-palette” uncode_shortcode_id=”578415″]Buy Tickets Now[/vc_button][vc_column_text uncode_shortcode_id=”111912″]Step into the shadows of the Morris Performing Arts Center for Whispers from the Past\, a one-hour guided journey through more than a century of history\, tragedy\, and theatrical superstition. Wander beneath glittering chandeliers and into hidden spaces rarely seen by the public\, where echoes of vaudeville spirits and long-forgotten patrons linger. Hear chilling tales of mysterious footsteps\, unexplained lights\, and the ghosts who never took their final bow. From the opulent Palais Royale to the stage’s haunted wings\, each stop reveals a story that blurs the line between legend and truth. Dare to listen—you may not leave alone.[/vc_column_text][/vc_column][/vc_row]
URL:https://morriscenter.org/event/ghost-tours/2025-10-31/
LOCATION:Morris Performing Arts Center\, 211 N. Michigan Street\, South Bend\, IN\, 46601\, United States
CATEGORIES:Performance
ATTACH;FMTTYPE=image/jpeg:https://morriscenter.org/wp-content/uploads/2025/08/1920x1080-Whispers-from-the-Past.jpg
END:VEVENT
END:VCALENDAR