BEGIN:VCALENDAR
VERSION:2.0
PRODID:-//Official Website of the Morris Performing Arts Center - ECPv6.15.20//NONSGML v1.0//EN
CALSCALE:GREGORIAN
METHOD:PUBLISH
X-WR-CALNAME:Official Website of the Morris Performing Arts Center
X-ORIGINAL-URL:https://morriscenter.org
X-WR-CALDESC:Events for Official Website of the Morris Performing Arts Center
REFRESH-INTERVAL;VALUE=DURATION:PT1H
X-Robots-Tag:noindex
X-PUBLISHED-TTL:PT1H
BEGIN:VTIMEZONE
TZID:America/Indiana/Indianapolis
BEGIN:DAYLIGHT
TZOFFSETFROM:-0500
TZOFFSETTO:-0400
TZNAME:EDT
DTSTART:20220313T070000
END:DAYLIGHT
BEGIN:STANDARD
TZOFFSETFROM:-0400
TZOFFSETTO:-0500
TZNAME:EST
DTSTART:20221106T060000
END:STANDARD
BEGIN:DAYLIGHT
TZOFFSETFROM:-0500
TZOFFSETTO:-0400
TZNAME:EDT
DTSTART:20230312T070000
END:DAYLIGHT
BEGIN:STANDARD
TZOFFSETFROM:-0400
TZOFFSETTO:-0500
TZNAME:EST
DTSTART:20231105T060000
END:STANDARD
BEGIN:DAYLIGHT
TZOFFSETFROM:-0500
TZOFFSETTO:-0400
TZNAME:EDT
DTSTART:20240310T070000
END:DAYLIGHT
BEGIN:STANDARD
TZOFFSETFROM:-0400
TZOFFSETTO:-0500
TZNAME:EST
DTSTART:20241103T060000
END:STANDARD
END:VTIMEZONE
BEGIN:VEVENT
DTSTART;TZID=America/Indiana/Indianapolis:20230513T193000
DTEND;TZID=America/Indiana/Indianapolis:20230513T193000
DTSTAMP:20260420T051852
CREATED:20220805T144346Z
LAST-MODIFIED:20230418T144738Z
UID:10000110-1684006200-1684006200@morriscenter.org
SUMMARY:RACHMANINOFF & TCHAIKOVSKY - South Bend Symphony Orchestra
DESCRIPTION:[vc_row row_height_percent=”0″ override_padding=”yes” h_padding=”0″ top_padding=”2″ bottom_padding=”4″ overlay_alpha=”50″ gutter_size=”3″ column_width_percent=”100″ shift_y=”0″ z_index=”0″ uncode_shortcode_id=”168309″][vc_column column_width_percent=”100″ gutter_size=”3″ overlay_alpha=”50″ shift_x=”0″ shift_y=”0″ shift_y_down=”0″ z_index=”0″ medium_width=”0″ mobile_width=”0″ width=”1/1″ uncode_shortcode_id=”200278″][vc_column_text uncode_shortcode_id=”259098″]Prepare for an extraordinary experience when Päivi Ekroth takes on the staggering virtuosity of Rachmaninoff’s Piano Concerto No.3 followed by a musical exploration of Tchaikovsky’s Fourth Symphony that explores the concept of Fate as an inescapable force and a blaze of sound.\nPaivi Ekroth\, piano\nRachmaninoff – Piano Concerto No. 3\nTchaikovsky – Symphony No. 4\n \nLexus proudly supports the 90th season Guest Artists.[/vc_column_text][vc_button button_color=”accent” size=”btn-lg” border_animation=”btn-ripple-in” custom_typo=”yes” font_family=”font-762333″ font_weight=”100″ text_transform=”uppercase” border_width=”0″ link=”url:https%3A%2F%2Fwww.etix.com%2Fticket%2Fp%2F6519560%2Fsouth-bend-symphonymasterworksrachmaninoff-tchaikovsky-south-bend-morris-performing-arts-center|target:_blank” button_color_type=”uncode-palette” uncode_shortcode_id=”378938″]Buy Tickets Now[/vc_button][/vc_column][/vc_row]
URL:https://morriscenter.org/event/south-bend-symphony-masterworks-rachmaninoff-tchaikovsky/
LOCATION:Morris Performing Arts Center\, 211 N. Michigan Street\, South Bend\, IN\, 46601\, United States
CATEGORIES:Symphony
ATTACH;FMTTYPE=image/jpeg:https://morriscenter.org/wp-content/uploads/2022/08/Box-Office-Header-1280-x-768_RachyTchai-scaled.jpg
END:VEVENT
END:VCALENDAR