BEGIN:VCALENDAR
VERSION:2.0
PRODID:-//Official Website of the Morris Performing Arts Center - ECPv6.15.20//NONSGML v1.0//EN
CALSCALE:GREGORIAN
METHOD:PUBLISH
X-WR-CALNAME:Official Website of the Morris Performing Arts Center
X-ORIGINAL-URL:https://morriscenter.org
X-WR-CALDESC:Events for Official Website of the Morris Performing Arts Center
REFRESH-INTERVAL;VALUE=DURATION:PT1H
X-Robots-Tag:noindex
X-PUBLISHED-TTL:PT1H
BEGIN:VTIMEZONE
TZID:America/Indiana/Indianapolis
BEGIN:DAYLIGHT
TZOFFSETFROM:-0500
TZOFFSETTO:-0400
TZNAME:EDT
DTSTART:20220313T070000
END:DAYLIGHT
BEGIN:STANDARD
TZOFFSETFROM:-0400
TZOFFSETTO:-0500
TZNAME:EST
DTSTART:20221106T060000
END:STANDARD
BEGIN:DAYLIGHT
TZOFFSETFROM:-0500
TZOFFSETTO:-0400
TZNAME:EDT
DTSTART:20230312T070000
END:DAYLIGHT
BEGIN:STANDARD
TZOFFSETFROM:-0400
TZOFFSETTO:-0500
TZNAME:EST
DTSTART:20231105T060000
END:STANDARD
BEGIN:DAYLIGHT
TZOFFSETFROM:-0500
TZOFFSETTO:-0400
TZNAME:EDT
DTSTART:20240310T070000
END:DAYLIGHT
BEGIN:STANDARD
TZOFFSETFROM:-0400
TZOFFSETTO:-0500
TZNAME:EST
DTSTART:20241103T060000
END:STANDARD
END:VTIMEZONE
BEGIN:VEVENT
DTSTART;TZID=America/Indiana/Indianapolis:20231208T190000
DTEND;TZID=America/Indiana/Indianapolis:20231208T190000
DTSTAMP:20260422T170309
CREATED:20231003T202000Z
LAST-MODIFIED:20231018T194623Z
UID:10000592-1702062000-1702062000@morriscenter.org
SUMMARY:The Nutcracker
DESCRIPTION:[vc_row][vc_column width=”1/1″][vc_column_text uncode_shortcode_id=”142312″]Southold Dance Theater Presents The Nutcracker in Collaboration with The South Bend Symphony Orchestra! \nSouthold Dance Theater and Artistic Director\, Calin Radulescu present their 42nd year of The Nutcracker in Collaboration with The South Bend Symphony Orchestra! Southold’s Nutcracker story has the Studebaker family home at its heart. Come experience this timeless family classic ballet with beautiful dances and glittering costumes\, all set against stunning scenery depicting historic South Bend landmarks. Join us for an undeniably magical local tradition! \n[/vc_column_text][/vc_column][/vc_row][vc_row][vc_column width=”1/1″][vc_button border_width=”0″ link=”url:https%3A%2F%2Fwww.etix.com%2Fticket%2Fp%2F73710946%2Fthe-nutcracker-south-bend-morris-performing-arts-center” uncode_shortcode_id=”437956″]Get Tickets[/vc_button][/vc_column][/vc_row]
URL:https://morriscenter.org/event/the-nutcracker/
LOCATION:Morris Performing Arts Center\, 211 N. Michigan Street\, South Bend\, IN\, 46601\, United States
CATEGORIES:Performance,Concerts,Symphony
ATTACH;FMTTYPE=image/jpeg:https://morriscenter.org/wp-content/uploads/2023/10/SDT_1920x1080-blastwebFB-_2023.jpg
END:VEVENT
BEGIN:VEVENT
DTSTART;TZID=America/Indiana/Indianapolis:20231209T190000
DTEND;TZID=America/Indiana/Indianapolis:20231209T190000
DTSTAMP:20260422T170309
CREATED:20231003T202509Z
LAST-MODIFIED:20231018T194410Z
UID:10000594-1702148400-1702148400@morriscenter.org
SUMMARY:The Nutcracker
DESCRIPTION:[vc_row row_height_percent=”0″ override_padding=”yes” h_padding=”0″ top_padding=”2″ bottom_padding=”4″ overlay_alpha=”50″ gutter_size=”3″ column_width_percent=”100″ shift_y=”0″ z_index=”0″ uncode_shortcode_id=”168309″][vc_column column_width_percent=”100″ gutter_size=”3″ overlay_alpha=”50″ shift_x=”0″ shift_y=”0″ shift_y_down=”0″ z_index=”0″ medium_width=”0″ mobile_width=”0″ width=”1/1″ uncode_shortcode_id=”200278″][vc_column_text uncode_shortcode_id=”229027″]Southold Dance Theater Presents The Nutcracker in Collaboration with The South Bend Symphony Orchestra! \nSouthold Dance Theater and Artistic Director\, Calin Radulescu present their 42nd year of The Nutcracker in Collaboration with The South Bend Symphony Orchestra! Southold’s Nutcracker story has the Studebaker family home at its heart. Come experience this timeless family classic ballet with beautiful dances and glittering costumes\, all set against stunning scenery depicting historic South Bend landmarks. Join us for an undeniably magical local tradition! \n[/vc_column_text][vc_button button_color=”accent” size=”btn-lg” border_animation=”btn-ripple-in” custom_typo=”yes” font_family=”font-762333″ font_weight=”100″ text_transform=”uppercase” border_width=”0″ link=”url:https%3A%2F%2Fwww.etix.com%2Fticket%2Fp%2F62484590%2Fthe-nutcracker-south-bend-morris-performing-arts-center|target:_blank” button_color_type=”uncode-palette” uncode_shortcode_id=”392221″]Buy Tickets Now[/vc_button][/vc_column][/vc_row]
URL:https://morriscenter.org/event/the-nutcracker-3/
LOCATION:Morris Performing Arts Center\, 211 N. Michigan Street\, South Bend\, IN\, 46601\, United States
CATEGORIES:Performance,Concerts,Dance,Symphony
ATTACH;FMTTYPE=image/jpeg:https://morriscenter.org/wp-content/uploads/2023/10/SDT_1920x1080-blastwebFB-_2023.jpg
END:VEVENT
BEGIN:VEVENT
DTSTART;TZID=America/Indiana/Indianapolis:20231210T140000
DTEND;TZID=America/Indiana/Indianapolis:20231210T140000
DTSTAMP:20260422T170309
CREATED:20231003T202342Z
LAST-MODIFIED:20231018T194500Z
UID:10000595-1702216800-1702216800@morriscenter.org
SUMMARY:The Nutcracker
DESCRIPTION:[vc_row row_height_percent=”0″ override_padding=”yes” h_padding=”0″ top_padding=”2″ bottom_padding=”4″ overlay_alpha=”50″ gutter_size=”3″ column_width_percent=”100″ shift_y=”0″ z_index=”0″ uncode_shortcode_id=”168309″][vc_column column_width_percent=”100″ gutter_size=”3″ overlay_alpha=”50″ shift_x=”0″ shift_y=”0″ shift_y_down=”0″ z_index=”0″ medium_width=”0″ mobile_width=”0″ width=”1/1″ uncode_shortcode_id=”200278″][vc_column_text uncode_shortcode_id=”180832″]Southold Dance Theater Presents The Nutcracker in Collaboration with The South Bend Symphony Orchestra! \nSouthold Dance Theater and Artistic Director\, Calin Radulescu present their 42nd year of The Nutcracker in Collaboration with The South Bend Symphony Orchestra! Southold’s Nutcracker story has the Studebaker family home at its heart. Come experience this timeless family classic ballet with beautiful dances and glittering costumes\, all set against stunning scenery depicting historic South Bend landmarks. Join us for an undeniably magical local tradition! \n[/vc_column_text][vc_button button_color=”accent” size=”btn-lg” border_animation=”btn-ripple-in” custom_typo=”yes” font_family=”font-762333″ font_weight=”100″ text_transform=”uppercase” border_width=”0″ link=”url:https%3A%2F%2Fwww.etix.com%2Fticket%2Fp%2F79245959%2Fthe-nutcracker-south-bend-morris-performing-arts-center|target:_blank” button_color_type=”uncode-palette” uncode_shortcode_id=”192162″]Buy Tickets Now[/vc_button][/vc_column][/vc_row]
URL:https://morriscenter.org/event/the-nutcracker-2/
LOCATION:Morris Performing Arts Center\, 211 N. Michigan Street\, South Bend\, IN\, 46601\, United States
CATEGORIES:Performance,Concerts,Dance,Symphony
ATTACH;FMTTYPE=image/jpeg:https://morriscenter.org/wp-content/uploads/2023/10/SDT_1920x1080-blastwebFB-_2023.jpg
END:VEVENT
BEGIN:VEVENT
DTSTART;TZID=America/Indiana/Indianapolis:20231216T193000
DTEND;TZID=America/Indiana/Indianapolis:20231216T193000
DTSTAMP:20260422T170309
CREATED:20230517T194658Z
LAST-MODIFIED:20230801T140430Z
UID:10000558-1702755000-1702755000@morriscenter.org
SUMMARY:Home For The Holidays
DESCRIPTION:[vc_row row_height_percent=”0″ override_padding=”yes” h_padding=”0″ top_padding=”2″ bottom_padding=”4″ overlay_alpha=”50″ gutter_size=”3″ column_width_percent=”100″ shift_y=”0″ z_index=”0″ uncode_shortcode_id=”168309″][vc_column column_width_percent=”100″ gutter_size=”3″ overlay_alpha=”50″ shift_x=”0″ shift_y=”0″ shift_y_down=”0″ z_index=”0″ medium_width=”0″ mobile_width=”0″ width=”1/1″ uncode_shortcode_id=”200278″][vc_column_text uncode_shortcode_id=”211472″]Join us for a heartwarming holiday tradition in South Bend as the Symphony\, accompanied by special guest artists\, presents “Home for the Holidays”! Immerse yourself in a spectacular program of beloved Christmas carols and memorable seasonal tunes that are sure to fill your heart with joy and bring back cherished memories. Experience the magic of the holiday season through the enchanting sounds of the Symphony as we bring you a heartwarming celebration of music and togetherness.  \nSingle tickets are on sale on August 1\, 2023. Secure your seat with a Season subscription. Visit www.southbendsymphony.org or call 574-232-6343 to save your seats and get the best prices![/vc_column_text][vc_button button_color=”accent” size=”btn-lg” border_animation=”btn-ripple-in” custom_typo=”yes” font_family=”font-762333″ font_weight=”100″ text_transform=”uppercase” border_width=”0″ link=”url:https%3A%2F%2Fwww.etix.com%2Fticket%2Fp%2F2936134%2Fsouth-bend-symphony-orchestrahome-for-the-holidays-south-bend-morris-performing-arts-center|target:_blank” button_color_type=”uncode-palette” uncode_shortcode_id=”168426″]Buy Tickets Now[/vc_button][/vc_column][/vc_row]
URL:https://morriscenter.org/event/home-for-the-holidays/
LOCATION:Morris Performing Arts Center\, 211 N. Michigan Street\, South Bend\, IN\, 46601\, United States
CATEGORIES:Performance,Concerts,Symphony
ATTACH;FMTTYPE=image/png:https://morriscenter.org/wp-content/uploads/2023/05/Home-for-the-Holidays-Saturday.png
END:VEVENT
BEGIN:VEVENT
DTSTART;TZID=America/Indiana/Indianapolis:20231217T143000
DTEND;TZID=America/Indiana/Indianapolis:20231217T143000
DTSTAMP:20260422T170309
CREATED:20230517T194835Z
LAST-MODIFIED:20230801T140358Z
UID:10000559-1702823400-1702823400@morriscenter.org
SUMMARY:Home For The Holidays
DESCRIPTION:[vc_row row_height_percent=”0″ override_padding=”yes” h_padding=”0″ top_padding=”2″ bottom_padding=”4″ overlay_alpha=”50″ gutter_size=”3″ column_width_percent=”100″ shift_y=”0″ z_index=”0″ uncode_shortcode_id=”168309″][vc_column column_width_percent=”100″ gutter_size=”3″ overlay_alpha=”50″ shift_x=”0″ shift_y=”0″ shift_y_down=”0″ z_index=”0″ medium_width=”0″ mobile_width=”0″ width=”1/1″ uncode_shortcode_id=”200278″][vc_column_text uncode_shortcode_id=”211472″]Join us for a heartwarming holiday tradition in South Bend as the Symphony\, accompanied by special guest artists\, presents “Home for the Holidays”! Immerse yourself in a spectacular program of beloved Christmas carols and memorable seasonal tunes that are sure to fill your heart with joy and bring back cherished memories. Experience the magic of the holiday season through the enchanting sounds of the Symphony as we bring you a heartwarming celebration of music and togetherness.  \nSingle tickets are on sale on August 1\, 2023. Secure your seat with a Season subscription. Visit www.southbendsymphony.org or call 574-232-6343 to save your seats and get the best prices![/vc_column_text][vc_button button_color=”accent” size=”btn-lg” border_animation=”btn-ripple-in” custom_typo=”yes” font_family=”font-762333″ font_weight=”100″ text_transform=”uppercase” border_width=”0″ link=”url:https%3A%2F%2Fwww.etix.com%2Fticket%2Fp%2F3604075%2Fsouth-bend-symphony-orchestrahome-for-the-holidays-south-bend-morris-performing-arts-center|target:_blank” button_color_type=”uncode-palette” uncode_shortcode_id=”102152″]Buy Tickets Now[/vc_button][/vc_column][/vc_row]
URL:https://morriscenter.org/event/home-for-the-holidays-2/
LOCATION:Morris Performing Arts Center\, 211 N. Michigan Street\, South Bend\, IN\, 46601\, United States
CATEGORIES:Performance,Concerts,Symphony
ATTACH;FMTTYPE=image/png:https://morriscenter.org/wp-content/uploads/2023/05/Home-for-the-Holidays-Sunday.png
END:VEVENT
BEGIN:VEVENT
DTSTART;TZID=America/Indiana/Indianapolis:20231218T193000
DTEND;TZID=America/Indiana/Indianapolis:20231218T193000
DTSTAMP:20260422T170309
CREATED:20230612T140011Z
LAST-MODIFIED:20230612T150916Z
UID:10000569-1702927800-1702927800@morriscenter.org
SUMMARY:The Prophecy Show - Music of the Trans-Siberian Orchestra
DESCRIPTION:[vc_row row_height_percent=”0″ override_padding=”yes” h_padding=”0″ top_padding=”2″ bottom_padding=”4″ overlay_alpha=”50″ gutter_size=”3″ column_width_percent=”100″ shift_y=”0″ z_index=”0″ uncode_shortcode_id=”168309″][vc_column column_width_percent=”100″ gutter_size=”3″ overlay_alpha=”50″ shift_x=”0″ shift_y=”0″ shift_y_down=”0″ z_index=”0″ medium_width=”0″ mobile_width=”0″ width=”1/1″ uncode_shortcode_id=”200278″][vc_column_text uncode_shortcode_id=”597962″] \nLaunching their 17th touring season of an extravagant Christmas musical production!\nThis powerhouse group of classically trained musicians come together to create nothing short of an electrifying evening of holiday rock music.Performing in the style of Trans-Siberian Orchestra\, The Prophecy Show has spared no details when it comes to the costumes\, choreography\, music\, lasers and fog.With more than 10 million albums sold\, the original Trans-Siberian Orchestra has inspired generations of fans to rediscover the multi-dimensional art form of the rock opera. Meanwhile\, on the road\, they have become one of the world’s top acts\, with Billboard magazine naming TSO as one of the top touring artists of the past decade.The Prophecy Show delivers all the flash\, flair\, and musical magic to some of the more intimate venues across the country. Each of these musicians posses several music degrees and have been hand selected by Producer and Lead Guitarist Thomas Rudebeck\, who prides himself on giving the audience the best possible production and sound available. \nAudiences everywhere are celebrating over 20 years of the most famous holiday rock music ever created with the TSO rock opera that is legendary. Come experience the power\, the music and the magic once again this Christmas season as The Prophecy Show performs all your favorite music from the Trans-Siberian Orchestra and more! \n\n\n[/vc_column_text][vc_button button_color=”accent” size=”btn-lg” border_animation=”btn-ripple-in” custom_typo=”yes” font_family=”font-762333″ font_weight=”100″ text_transform=”uppercase” border_width=”0″ link=”url:https%3A%2F%2Fwww.etix.com%2Fticket%2Fp%2F4336071%2Fthe-prophecy-show-music-of-the-transsiberian-orchestra-south-bend-morris-performing-arts-center|target:_blank” button_color_type=”uncode-palette” uncode_shortcode_id=”210932″]Buy Tickets Now[/vc_button][/vc_column][/vc_row]
URL:https://morriscenter.org/event/the-prophecy-show-music-of-the-trans-siberian-orchestra/
LOCATION:Morris Performing Arts Center\, 211 N. Michigan Street\, South Bend\, IN\, 46601\, United States
CATEGORIES:Performance,Concerts,Symphony
ATTACH;FMTTYPE=image/jpeg:https://morriscenter.org/wp-content/uploads/2023/06/Morris-1920x1080-1.jpg
END:VEVENT
END:VCALENDAR