BEGIN:VCALENDAR
VERSION:2.0
PRODID:-//Official Website of the Morris Performing Arts Center - ECPv6.15.20//NONSGML v1.0//EN
CALSCALE:GREGORIAN
METHOD:PUBLISH
X-ORIGINAL-URL:https://morriscenter.org
X-WR-CALDESC:Events for Official Website of the Morris Performing Arts Center
REFRESH-INTERVAL;VALUE=DURATION:PT1H
X-Robots-Tag:noindex
X-PUBLISHED-TTL:PT1H
BEGIN:VTIMEZONE
TZID:America/Indiana/Indianapolis
BEGIN:DAYLIGHT
TZOFFSETFROM:-0500
TZOFFSETTO:-0400
TZNAME:EDT
DTSTART:20220313T070000
END:DAYLIGHT
BEGIN:STANDARD
TZOFFSETFROM:-0400
TZOFFSETTO:-0500
TZNAME:EST
DTSTART:20221106T060000
END:STANDARD
BEGIN:DAYLIGHT
TZOFFSETFROM:-0500
TZOFFSETTO:-0400
TZNAME:EDT
DTSTART:20230312T070000
END:DAYLIGHT
BEGIN:STANDARD
TZOFFSETFROM:-0400
TZOFFSETTO:-0500
TZNAME:EST
DTSTART:20231105T060000
END:STANDARD
BEGIN:DAYLIGHT
TZOFFSETFROM:-0500
TZOFFSETTO:-0400
TZNAME:EDT
DTSTART:20240310T070000
END:DAYLIGHT
BEGIN:STANDARD
TZOFFSETFROM:-0400
TZOFFSETTO:-0500
TZNAME:EST
DTSTART:20241103T060000
END:STANDARD
END:VTIMEZONE
BEGIN:VEVENT
DTSTART;TZID=America/Indiana/Indianapolis:20230718T190000
DTEND;TZID=America/Indiana/Indianapolis:20230718T190000
DTSTAMP:20260423T194309
CREATED:20230621T190030Z
LAST-MODIFIED:20230621T205125Z
UID:10000570-1689706800-1689706800@morriscenter.org
SUMMARY:International Jugglers' Association Festival - Welcome Show
DESCRIPTION:[vc_row row_height_percent=”0″ override_padding=”yes” h_padding=”0″ top_padding=”2″ bottom_padding=”4″ overlay_alpha=”50″ gutter_size=”3″ column_width_percent=”100″ shift_y=”0″ z_index=”0″ uncode_shortcode_id=”168309″][vc_column column_width_percent=”100″ gutter_size=”3″ overlay_alpha=”50″ shift_x=”0″ shift_y=”0″ shift_y_down=”0″ z_index=”0″ medium_width=”0″ mobile_width=”0″ width=”1/1″ uncode_shortcode_id=”200278″][vc_column_text uncode_shortcode_id=”853718″] \nThe IJA Welcome show is a compilation of outstanding juggling talents from across the globe and is the perfect event for both jugglers and non-jugglers. Bring out the family and join us for this talent packed show to kick off the week-long IJA Festival! \nDoors open at 6:00PM. “Child” pricing available for patrons 15 and under. \nThere will be an ASL interpreter for the show. \n[/vc_column_text][vc_button button_color=”accent” size=”btn-lg” border_animation=”btn-ripple-in” custom_typo=”yes” font_family=”font-762333″ font_weight=”100″ text_transform=”uppercase” border_width=”0″ link=”url:https%3A%2F%2Fwww.etix.com%2Fticket%2Fp%2F2329897%2Fija-festival-welcome-show-south-bend-morris-performing-arts-center|target:_blank” button_color_type=”uncode-palette” uncode_shortcode_id=”141267″]Buy Tickets Now[/vc_button][/vc_column][/vc_row]
URL:https://morriscenter.org/event/international-jugglers-association-festival-welcome-show/
LOCATION:Morris Performing Arts Center\, 211 N. Michigan Street\, South Bend\, IN\, 46601\, United States
CATEGORIES:Performance
ATTACH;FMTTYPE=image/png:https://morriscenter.org/wp-content/uploads/2023/06/welcomeshow.png
END:VEVENT
BEGIN:VEVENT
DTSTART;TZID=America/Indiana/Indianapolis:20230719T190000
DTEND;TZID=America/Indiana/Indianapolis:20230719T190000
DTSTAMP:20260423T194309
CREATED:20230621T190052Z
LAST-MODIFIED:20230621T204957Z
UID:10000571-1689793200-1689793200@morriscenter.org
SUMMARY:International Jugglers' Association Festival - Flow Show
DESCRIPTION:[vc_row row_height_percent=”0″ override_padding=”yes” h_padding=”0″ top_padding=”2″ bottom_padding=”4″ overlay_alpha=”50″ gutter_size=”3″ column_width_percent=”100″ shift_y=”0″ z_index=”0″ uncode_shortcode_id=”168309″][vc_column column_width_percent=”100″ gutter_size=”3″ overlay_alpha=”50″ shift_x=”0″ shift_y=”0″ shift_y_down=”0″ z_index=”0″ medium_width=”0″ mobile_width=”0″ width=”1/1″ uncode_shortcode_id=”200278″][vc_column_text uncode_shortcode_id=”580386″] \nOver the past few years\, the IJA has taken steps to highlight more flow artists by producing a show dedicated to the “flow” side of manipulation. The term “flow arts” has come to encompass object manipulation props and tools such as hula hoop\, poi spinning\, baton twirling\, and other forms of movement and dance that incorporate the use of objects in their performance. This show will absolutely dazzle you with insight into unique props and skills that these artists showcase. \nDoors open at 6:00PM. “Child” pricing available for patrons 15 and under. \nThere will be an ASL interpreter for the show. \n[/vc_column_text][vc_button button_color=”accent” size=”btn-lg” border_animation=”btn-ripple-in” custom_typo=”yes” font_family=”font-762333″ font_weight=”100″ text_transform=”uppercase” border_width=”0″ link=”url:https%3A%2F%2Fwww.etix.com%2Fticket%2Fp%2F3897296%2Fija-festival-flow-show-south-bend-morris-performing-arts-center|target:_blank” button_color_type=”uncode-palette” uncode_shortcode_id=”127128″]Buy Tickets Now[/vc_button][/vc_column][/vc_row]
URL:https://morriscenter.org/event/international-jugglers-association-festival-flow-show/
LOCATION:Morris Performing Arts Center\, 211 N. Michigan Street\, South Bend\, IN\, 46601\, United States
CATEGORIES:Performance
ATTACH;FMTTYPE=image/png:https://morriscenter.org/wp-content/uploads/2023/06/flowshow.png
END:VEVENT
BEGIN:VEVENT
DTSTART;TZID=America/Indiana/Indianapolis:20230720T190000
DTEND;TZID=America/Indiana/Indianapolis:20230720T190000
DTSTAMP:20260423T194309
CREATED:20230621T190046Z
LAST-MODIFIED:20230621T205032Z
UID:10000572-1689879600-1689879600@morriscenter.org
SUMMARY:International Jugglers' Association Festival - Juggling Championships
DESCRIPTION:[vc_row row_height_percent=”0″ override_padding=”yes” h_padding=”0″ top_padding=”2″ bottom_padding=”4″ overlay_alpha=”50″ gutter_size=”3″ column_width_percent=”100″ shift_y=”0″ z_index=”0″ uncode_shortcode_id=”168309″][vc_column column_width_percent=”100″ gutter_size=”3″ overlay_alpha=”50″ shift_x=”0″ shift_y=”0″ shift_y_down=”0″ z_index=”0″ medium_width=”0″ mobile_width=”0″ width=”1/1″ uncode_shortcode_id=”200278″][vc_column_text uncode_shortcode_id=”167311″] \nThe goal of the IJA Juggling Championships is to reward a stage-performed juggling act that is entertaining and marketable to a broad audience. The IJA Juggling Championships finals are held every year during the annual IJA Festival. \nDoors open at 6:00PM. “Child” pricing available for patrons 15 and under. \nThere will be an ASL interpreter for the show. \n[/vc_column_text][vc_button button_color=”accent” size=”btn-lg” border_animation=”btn-ripple-in” custom_typo=”yes” font_family=”font-762333″ font_weight=”100″ text_transform=”uppercase” border_width=”0″ link=”url:https%3A%2F%2Fwww.etix.com%2Fticket%2Fp%2F2709897%2Fija-festival-juggling-championships-south-bend-morris-performing-arts-center|target:_blank” button_color_type=”uncode-palette” uncode_shortcode_id=”130900″]Buy Tickets Now[/vc_button][/vc_column][/vc_row]
URL:https://morriscenter.org/event/international-jugglers-association-festival-juggling-championships/
LOCATION:Morris Performing Arts Center\, 211 N. Michigan Street\, South Bend\, IN\, 46601\, United States
CATEGORIES:Performance
ATTACH;FMTTYPE=image/png:https://morriscenter.org/wp-content/uploads/2023/06/wjc.png
END:VEVENT
BEGIN:VEVENT
DTSTART;TZID=America/Indiana/Indianapolis:20230722T190000
DTEND;TZID=America/Indiana/Indianapolis:20230722T190000
DTSTAMP:20260423T194309
CREATED:20230621T190033Z
LAST-MODIFIED:20230621T205056Z
UID:10000573-1690052400-1690052400@morriscenter.org
SUMMARY:International Jugglers' Association Festival - Cascade of Stars
DESCRIPTION:[vc_row row_height_percent=”0″ override_padding=”yes” h_padding=”0″ top_padding=”2″ bottom_padding=”4″ overlay_alpha=”50″ gutter_size=”3″ column_width_percent=”100″ shift_y=”0″ z_index=”0″ uncode_shortcode_id=”168309″][vc_column column_width_percent=”100″ gutter_size=”3″ overlay_alpha=”50″ shift_x=”0″ shift_y=”0″ shift_y_down=”0″ z_index=”0″ medium_width=”0″ mobile_width=”0″ width=”1/1″ uncode_shortcode_id=”200278″][vc_column_text uncode_shortcode_id=”125657″] \nThe Saturday evening performance will feature top notch juggling and circus talent from around the world. Bring the whole family and get ready for a fabulous night of high-quality entertainment. \nDoors open at 6:00PM. “Child” pricing available for patrons 15 and under. \nThere will be an ASL interpreter for the show. \n[/vc_column_text][vc_button button_color=”accent” size=”btn-lg” border_animation=”btn-ripple-in” custom_typo=”yes” font_family=”font-762333″ font_weight=”100″ text_transform=”uppercase” border_width=”0″ link=”url:https%3A%2F%2Fwww.etix.com%2Fticket%2Fp%2F6398795%2Fija-festival-cascade-of-stars-south-bend-morris-performing-arts-center|target:_blank” button_color_type=”uncode-palette” uncode_shortcode_id=”177410″]Buy Tickets Now[/vc_button][/vc_column][/vc_row]
URL:https://morriscenter.org/event/international-jugglers-association-festival-cascade-of-stars/
LOCATION:Morris Performing Arts Center\, 211 N. Michigan Street\, South Bend\, IN\, 46601\, United States
CATEGORIES:Performance
ATTACH;FMTTYPE=image/png:https://morriscenter.org/wp-content/uploads/2023/06/cascadeofstars.png
END:VEVENT
END:VCALENDAR