BEGIN:VCALENDAR
VERSION:2.0
PRODID:-//Official Website of the Morris Performing Arts Center - ECPv6.15.20//NONSGML v1.0//EN
CALSCALE:GREGORIAN
METHOD:PUBLISH
X-WR-CALNAME:Official Website of the Morris Performing Arts Center
X-ORIGINAL-URL:https://morriscenter.org
X-WR-CALDESC:Events for Official Website of the Morris Performing Arts Center
REFRESH-INTERVAL;VALUE=DURATION:PT1H
X-Robots-Tag:noindex
X-PUBLISHED-TTL:PT1H
BEGIN:VTIMEZONE
TZID:America/Indiana/Indianapolis
BEGIN:DAYLIGHT
TZOFFSETFROM:-0500
TZOFFSETTO:-0400
TZNAME:EDT
DTSTART:20250309T070000
END:DAYLIGHT
BEGIN:STANDARD
TZOFFSETFROM:-0400
TZOFFSETTO:-0500
TZNAME:EST
DTSTART:20251102T060000
END:STANDARD
BEGIN:DAYLIGHT
TZOFFSETFROM:-0500
TZOFFSETTO:-0400
TZNAME:EDT
DTSTART:20260308T070000
END:DAYLIGHT
BEGIN:STANDARD
TZOFFSETFROM:-0400
TZOFFSETTO:-0500
TZNAME:EST
DTSTART:20261101T060000
END:STANDARD
BEGIN:DAYLIGHT
TZOFFSETFROM:-0500
TZOFFSETTO:-0400
TZNAME:EDT
DTSTART:20270314T070000
END:DAYLIGHT
BEGIN:STANDARD
TZOFFSETFROM:-0400
TZOFFSETTO:-0500
TZNAME:EST
DTSTART:20271107T060000
END:STANDARD
END:VTIMEZONE
BEGIN:VEVENT
DTSTART;TZID=America/Indiana/Indianapolis:20260228T193000
DTEND;TZID=America/Indiana/Indianapolis:20260228T193000
DTSTAMP:20260425T094521
CREATED:20250618T133555Z
LAST-MODIFIED:20250730T114619Z
UID:10000848-1772307000-1772307000@morriscenter.org
SUMMARY:Beethoven’s Eroica
DESCRIPTION:[vc_row row_height_percent=”0″ override_padding=”yes” h_padding=”0″ top_padding=”2″ bottom_padding=”4″ overlay_alpha=”50″ gutter_size=”3″ column_width_percent=”100″ shift_y=”0″ z_index=”0″ uncode_shortcode_id=”168309″][vc_column column_width_percent=”100″ gutter_size=”3″ overlay_alpha=”50″ shift_x=”0″ shift_y=”0″ shift_y_down=”0″ z_index=”0″ medium_width=”0″ mobile_width=”0″ width=”1/1″ uncode_shortcode_id=”200278″][vc_column_text uncode_shortcode_id=”884841″]South Bend Symphony Concertmaster Jameson Cooper takes center stage as the Symphony presents Beethoven’s Eroica—a revolutionary masterpiece of heroism\, resilience\, and triumph.[/vc_column_text][vc_button button_color=”accent” size=”btn-lg” border_animation=”btn-ripple-in” custom_typo=”yes” font_family=”font-762333″ font_weight=”100″ text_transform=”uppercase” border_width=”0″ link=”url:https%3A%2F%2Fwww.etix.com%2Fticket%2Fp%2F98683809%2Fjack-mchampaigne-masterworks-seriesbeethovens-eroica-south-bend-morris-performing-arts-center|target:_blank” button_color_type=”uncode-palette” uncode_shortcode_id=”110572″]Buy Tickets Now[/vc_button][/vc_column][/vc_row]
URL:https://morriscenter.org/event/beethovens-eroica/
LOCATION:Morris Performing Arts Center\, 211 N. Michigan Street\, South Bend\, IN\, 46601\, United States
CATEGORIES:Concerts
ATTACH;FMTTYPE=image/jpeg:https://morriscenter.org/wp-content/uploads/2025/06/2187fa45-a917-4225-980b-3a4b0c8ea007.jpg
END:VEVENT
BEGIN:VEVENT
DTSTART;TZID=America/Indiana/Indianapolis:20260310T193000
DTEND;TZID=America/Indiana/Indianapolis:20260310T193000
DTSTAMP:20260425T094521
CREATED:20250620T140007Z
LAST-MODIFIED:20250620T132352Z
UID:10000858-1773171000-1773171000@morriscenter.org
SUMMARY:Lords of the Sound - The Music of Hans Zimmer
DESCRIPTION:[vc_row row_height_percent=”0″ override_padding=”yes” h_padding=”0″ top_padding=”2″ bottom_padding=”4″ overlay_alpha=”50″ gutter_size=”3″ column_width_percent=”100″ shift_y=”0″ z_index=”0″ uncode_shortcode_id=”168309″][vc_column column_width_percent=”100″ gutter_size=”3″ overlay_alpha=”50″ shift_x=”0″ shift_y=”0″ shift_y_down=”0″ z_index=”0″ medium_width=”0″ mobile_width=”0″ width=”1/1″ uncode_shortcode_id=”200278″][vc_column_text uncode_shortcode_id=”899314″]The internationally acclaimed Ukrainian symphony orchestra Lords of the Sound is set to\nmake its highly anticipated United States debut in March 2026\, bringing one of its most\niconic concert experiences—“The Music of Hans Zimmer” —to select cities across the East\nCoast and Midwest. \nA Tribute to a Cinematic Maestro: The Music of Hans Zimmer\nWith The Music of Hans Zimmer\, Lords of the Sound pays homage to one of cinema’s greatest\nliving composers. Zimmer’s award-winning soundtracks have shaped the modern era of film\,\ncreating unforgettable emotional depth and atmosphere. The concert features epic selections\nfrom beloved blockbusters including:  Dune\, The Dark Knight\, Inception\, Pirates of the\nCaribbean\, Interstellar\, Sherlock Holmes\, The Lion King\, Man of Steel\, and more.\nAudiences will be swept away by the intensity\, beauty\, and power of Zimmer’s iconic scores\nperformed live. \nA Fusion of Power and Passion \nLed by conductor Nazar Yakobenchuk and featuring standout soloists Illia Skrebnov and\nYaroslava Taran\, Lords of the Sound blends classical tradition with rock energy for an\nelectrifying performance. The orchestra has enchanted audiences across Europe\, most recently\ncompleting a 60-show tour in France and a 30-show tour in Germany—each to sold-out venues\nand standing ovations. \nThe visionary behind this global phenomenon is producer Andrii Novatorov\, whose mission\nfor over a decade has been to unite music and cinema in emotionally resonant\, large-scale\nproductions. His bold creative direction—fusing classical and electronic instruments—has\npushed the boundaries of orchestral performance and earned international acclaim.[/vc_column_text][/vc_column][/vc_row][vc_row][vc_column width=”1/1″][vc_button border_width=”0″ link=”url:https%3A%2F%2Fwww.etix.com%2Fticket%2Fp%2F63629761%2Fthe-lords-of-the-sound-south-bend-morris-performing-arts-center|target:_blank” uncode_shortcode_id=”143888″]Get Tickets[/vc_button][/vc_column][/vc_row]
URL:https://morriscenter.org/event/lords-of-the-sound-the-music-of-hans-zimmer/
LOCATION:Morris Performing Arts Center\, 211 N. Michigan Street\, South Bend\, IN\, 46601\, United States
CATEGORIES:Performance,Concerts
ATTACH;FMTTYPE=image/jpeg:https://morriscenter.org/wp-content/uploads/2025/06/LORD_OF-2026_1920_1080_SOUTH_BEND.jpg
END:VEVENT
BEGIN:VEVENT
DTSTART;TZID=America/Indiana/Indianapolis:20260328T193000
DTEND;TZID=America/Indiana/Indianapolis:20260328T193000
DTSTAMP:20260425T094521
CREATED:20250715T145428Z
LAST-MODIFIED:20250715T145502Z
UID:10000860-1774726200-1774726200@morriscenter.org
SUMMARY:Dvořák’s Cello Concerto
DESCRIPTION:[vc_row row_height_percent=”0″ override_padding=”yes” h_padding=”0″ top_padding=”2″ bottom_padding=”4″ overlay_alpha=”50″ gutter_size=”3″ column_width_percent=”100″ shift_y=”0″ z_index=”0″ uncode_shortcode_id=”168309″][vc_column column_width_percent=”100″ gutter_size=”3″ overlay_alpha=”50″ shift_x=”0″ shift_y=”0″ shift_y_down=”0″ z_index=”0″ medium_width=”0″ mobile_width=”0″ width=”1/1″ uncode_shortcode_id=”200278″][vc_column_text uncode_shortcode_id=”141495″]Cellist Joshua Roman takes center stage to perform Dvořák’s Cello Concerto\, a masterful work showcasing the cello’s expressive depth and technical brilliance.[/vc_column_text][vc_button button_color=”accent” size=”btn-lg” border_animation=”btn-ripple-in” custom_typo=”yes” font_family=”font-762333″ font_weight=”100″ text_transform=”uppercase” border_width=”0″ link=”url:https%3A%2F%2Fwww.etix.com%2Fticket%2Fp%2F85058708%2Fjack-mchampaigne-masterworks-seriesdvo%25C5%2599%25C3%25A1ks-cello-concerto-south-bend-morris-performing-arts-center|target:_blank” button_color_type=”uncode-palette” uncode_shortcode_id=”271844″]Buy Tickets Now[/vc_button][/vc_column][/vc_row]
URL:https://morriscenter.org/event/dvoraks-cello-concerto/
LOCATION:Morris Performing Arts Center\, 211 N. Michigan Street\, South Bend\, IN\, 46601\, United States
CATEGORIES:Concerts
ATTACH;FMTTYPE=image/jpeg:https://morriscenter.org/wp-content/uploads/2025/06/MW-4_Dvoraks-Cello-Concerto.jpg
END:VEVENT
BEGIN:VEVENT
DTSTART;TZID=America/Indiana/Indianapolis:20260414T190000
DTEND;TZID=America/Indiana/Indianapolis:20260414T190000
DTSTAMP:20260425T094521
CREATED:20251113T150047Z
LAST-MODIFIED:20251113T203148Z
UID:10000862-1776193200-1776193200@morriscenter.org
SUMMARY:Glenn Miller Orchestra
DESCRIPTION:[vc_row row_height_percent=”0″ override_padding=”yes” h_padding=”0″ top_padding=”2″ bottom_padding=”4″ overlay_alpha=”50″ gutter_size=”3″ column_width_percent=”100″ shift_y=”0″ z_index=”0″ uncode_shortcode_id=”168309″][vc_column column_width_percent=”100″ gutter_size=”3″ overlay_alpha=”50″ shift_x=”0″ shift_y=”0″ shift_y_down=”0″ z_index=”0″ medium_width=”0″ mobile_width=”0″ width=”1/1″ uncode_shortcode_id=”200278″][vc_button button_color=”accent” size=”btn-lg” border_animation=”btn-ripple-in” custom_typo=”yes” font_family=”font-762333″ font_weight=”100″ text_transform=”uppercase” border_width=”0″ link=”url:https%3A%2F%2Fwww.etix.com%2Fticket%2Fp%2F86704303%2Fthe-glenn-miller-orchestra-south-bend-morris-performing-arts-center” button_color_type=”uncode-palette” uncode_shortcode_id=”157892″]Buy Tickets Now[/vc_button][vc_column_text uncode_shortcode_id=”878470″]The most popular and sought after big band of all time returns to South Bend for an evening of swing\nmusic at the Morris Performing Arts Center! \nThe World-famous Glenn Miller Orchestra brings timeless classics like In the Mood\, Moonlight Serenade\, Chattanooga Choo Choo\, Pennsylvania 6-5000\, String of Pearls and Tuxedo Junction back to the stage. Even 85 years after founding his famous orchestra Glenn Miller’s music is alive and well. \nOver 18 musicians and singers bring the unforgettable Glenn Miller sound and perform those songs that everyone remembers… This is a show not to miss for jazz and swing fans alike or the incurable romantics who want to step back in time. The legendary Glenn Miller was the most successful of all the dance bandleaders back in the Swing era of the 1930s and 1940s. \n[/vc_column_text][/vc_column][/vc_row]
URL:https://morriscenter.org/event/glenn-miller-orchestra/
LOCATION:Morris Performing Arts Center\, 211 N. Michigan Street\, South Bend\, IN\, 46601\, United States
CATEGORIES:Performance,Concerts,Symphony
ATTACH;FMTTYPE=image/jpeg:https://morriscenter.org/wp-content/uploads/2025/07/2026-GMO_SouthBend_1200x628_FB_rev.jpg
END:VEVENT
BEGIN:VEVENT
DTSTART;TZID=America/Indiana/Indianapolis:20260418T193000
DTEND;TZID=America/Indiana/Indianapolis:20260418T193000
DTSTAMP:20260425T094521
CREATED:20250618T134016Z
LAST-MODIFIED:20250817T213129Z
UID:10000850-1776540600-1776540600@morriscenter.org
SUMMARY:Carmina Burana
DESCRIPTION:[vc_row row_height_percent=”0″ override_padding=”yes” h_padding=”0″ top_padding=”2″ bottom_padding=”4″ overlay_alpha=”50″ gutter_size=”3″ column_width_percent=”100″ shift_y=”0″ z_index=”0″ uncode_shortcode_id=”168309″][vc_column column_width_percent=”100″ gutter_size=”3″ overlay_alpha=”50″ shift_x=”0″ shift_y=”0″ shift_y_down=”0″ z_index=”0″ medium_width=”0″ mobile_width=”0″ width=”1/1″ uncode_shortcode_id=”200278″][vc_column_text uncode_shortcode_id=”178929″]The season crescendos with Carmina Burana\, a spectacular choral work featuring the South Bend Chamber Singers\, Saint Mary’s College Belles Voix\, and Notre Dame Glee Club.[/vc_column_text][vc_button button_color=”accent” size=”btn-lg” border_animation=”btn-ripple-in” custom_typo=”yes” font_family=”font-762333″ font_weight=”100″ text_transform=”uppercase” border_width=”0″ link=”url:https%3A%2F%2Fwww.etix.com%2Fticket%2Fp%2F87960266%2Fjack-mchampaigne-masterworks-seriescarmina-burana-south-bend-morris-performing-arts-center|target:_blank” button_color_type=”uncode-palette” uncode_shortcode_id=”170277″]Buy Tickets Now[/vc_button][/vc_column][/vc_row]
URL:https://morriscenter.org/event/carmina-burana/
LOCATION:Morris Performing Arts Center\, 211 N. Michigan Street\, South Bend\, IN\, 46601\, United States
CATEGORIES:Concerts
ATTACH;FMTTYPE=image/jpeg:https://morriscenter.org/wp-content/uploads/2025/06/MW-5.jpg
END:VEVENT
BEGIN:VEVENT
DTSTART;TZID=America/Indiana/Indianapolis:20260425T190000
DTEND;TZID=America/Indiana/Indianapolis:20260425T190000
DTSTAMP:20260425T094521
CREATED:20260224T150018Z
LAST-MODIFIED:20260416T163258Z
UID:10000910-1777143600-1777143600@morriscenter.org
SUMMARY:Ricky Dillard & New G
DESCRIPTION:[vc_row row_height_percent=”0″ override_padding=”yes” h_padding=”0″ top_padding=”2″ bottom_padding=”4″ overlay_alpha=”50″ gutter_size=”3″ column_width_percent=”100″ shift_y=”0″ z_index=”0″ uncode_shortcode_id=”168309″][vc_column column_width_percent=”100″ gutter_size=”3″ overlay_alpha=”50″ shift_x=”0″ shift_y=”0″ shift_y_down=”0″ z_index=”0″ medium_width=”0″ mobile_width=”0″ width=”1/1″ uncode_shortcode_id=”200278″][vc_button button_color=”accent” size=”btn-lg” border_animation=”btn-ripple-in” custom_typo=”yes” font_family=”font-762333″ font_weight=”100″ text_transform=”uppercase” border_width=”0″ link=”url:https%3A%2F%2Fwww.etix.com%2Fticket%2Fp%2F77509649%2Fricky-dillard-new-g-south-bend-morris-performing-arts-center” button_color_type=”uncode-palette” uncode_shortcode_id=”173034″]Buy Tickets Now[/vc_button][vc_column_text uncode_shortcode_id=”186991″]Ricky Dillard\, known as “The Choirmaster\,” is a Grammy-nominated gospel music pioneer whose career spans more than three decades. Since releasing his debut in 1990\, he has remained a driving force in contemporary gospel\, earning multiple Grammy nominations\, Stellar Awards\, Dove Awards\, and an NAACP Image Award while consistently delivering chart-topping albums with his powerhouse ensemble\, New Generation Chorale (“New G”). \nA Chicago native\, Dillard’s influence extends beyond the church into film\, television\, and cross-genre collaborations\, including work with legendary artists and appearances in major productions. Renowned for his electrifying choir sound and innovative leadership\, he continues to shape and expand the global impact of gospel music for new generations. \nOpening Acts: Turrell O’Neal & the BHF Mass Choir; and Brent Easton \nGroup rates are available for 8+ tickets! Call the Morris Box Office at 574-235-9190 for more information.[/vc_column_text][/vc_column][/vc_row]
URL:https://morriscenter.org/event/ricky-dillard-new-g/
LOCATION:Morris Performing Arts Center\, 211 N. Michigan Street\, South Bend\, IN\, 46601\, United States
CATEGORIES:Performance,Concerts
ATTACH;FMTTYPE=image/jpeg:https://morriscenter.org/wp-content/uploads/2026/02/Ricky-Dillard-1920x1080web.jpg
END:VEVENT
BEGIN:VEVENT
DTSTART;TZID=America/Indiana/Indianapolis:20260506T200000
DTEND;TZID=America/Indiana/Indianapolis:20260506T200000
DTSTAMP:20260425T094521
CREATED:20251013T140532Z
LAST-MODIFIED:20251013T113411Z
UID:10000893-1778097600-1778097600@morriscenter.org
SUMMARY:The Rock Orchestra By Candlelight
DESCRIPTION:[vc_row row_height_percent=”0″ override_padding=”yes” h_padding=”0″ top_padding=”2″ bottom_padding=”4″ overlay_alpha=”50″ gutter_size=”3″ column_width_percent=”100″ shift_y=”0″ z_index=”0″ uncode_shortcode_id=”168309″][vc_column column_width_percent=”100″ gutter_size=”3″ overlay_alpha=”50″ shift_x=”0″ shift_y=”0″ shift_y_down=”0″ z_index=”0″ medium_width=”0″ mobile_width=”0″ width=”1/1″ uncode_shortcode_id=”200278″][vc_button button_color=”accent” size=”btn-lg” border_animation=”btn-ripple-in” custom_typo=”yes” font_family=”font-762333″ font_weight=”100″ text_transform=”uppercase” border_width=”0″ link=”url:https%3A%2F%2Fwww.etix.com%2Fticket%2Fp%2F60836073%2Fthe-rock-orchestra-by-candlelight-south-bend-morris-performing-arts-center” button_color_type=”uncode-palette” uncode_shortcode_id=”118182″]Buy Tickets Now[/vc_button][vc_column_text uncode_shortcode_id=”294975″]After mesmerizing audiences across Europe and the UK\, The Rock Orchestra by Candlelight is set to\nelectrify the USA once again. Prepare for a spellbinding 90-minute spectacle that infuses iconic Rock &amp;\nMetal anthems with a hauntingly beautiful energy. In ethereal candlelit settings\, this band of 14 classical\nmusicians unleash effortlessly enchanting melodies alongside powerful walls of distortion. Witness the\nunexpected union of Classical music and Metal. \nPerforming the music of iconic bands including: Metallica\, AC/DC\, Rolling Stones\, Rage Against The\nMachine\, My Chemical Romance\, Linkin’ Park\, SOAD\, Guns N Roses\, Evanescence\, Papa Roach\, The\nCranberries and MORE![/vc_column_text][/vc_column][/vc_row]
URL:https://morriscenter.org/event/the-rock-orchestra-by-candlelight/
LOCATION:Morris Performing Arts Center\, 211 N. Michigan Street\, South Bend\, IN\, 46601\, United States
CATEGORIES:Performance,Concerts
ATTACH;FMTTYPE=image/jpeg:https://morriscenter.org/wp-content/uploads/2025/10/RO_SOUTHBEND_VENUE_1920x1080.jpg
END:VEVENT
BEGIN:VEVENT
DTSTART;TZID=America/Indiana/Indianapolis:20260509T193000
DTEND;TZID=America/Indiana/Indianapolis:20260509T193000
DTSTAMP:20260425T094521
CREATED:20250618T135830Z
LAST-MODIFIED:20250618T135830Z
UID:10000854-1778355000-1778355000@morriscenter.org
SUMMARY:Celebrating The Music of John Williams
DESCRIPTION:[vc_row row_height_percent=”0″ override_padding=”yes” h_padding=”0″ top_padding=”2″ bottom_padding=”4″ overlay_alpha=”50″ gutter_size=”3″ column_width_percent=”100″ shift_y=”0″ z_index=”0″ uncode_shortcode_id=”168309″][vc_column column_width_percent=”100″ gutter_size=”3″ overlay_alpha=”50″ shift_x=”0″ shift_y=”0″ shift_y_down=”0″ z_index=”0″ medium_width=”0″ mobile_width=”0″ width=”1/1″ uncode_shortcode_id=”200278″][vc_column_text uncode_shortcode_id=”791715″]The season closes with the music of John Williams with a thrilling evening dedicated to the legendary film composer’s most iconic scores. Music from blockbuster hits such as Star Wars\, Jurassic Park\, Indiana Jones\, and so much more![/vc_column_text][vc_button button_color=”accent” size=”btn-lg” border_animation=”btn-ripple-in” custom_typo=”yes” font_family=”font-762333″ font_weight=”100″ text_transform=”uppercase” border_width=”0″ link=”url:https%3A%2F%2Fwww.etix.com%2Fticket%2Fp%2F82585531%2Findiana-trust-pops-seriescelebrating-the-music-of-john-williams-south-bend-morris-performing-arts-center|target:_blank” button_color_type=”uncode-palette” uncode_shortcode_id=”234298″]Buy Tickets Now[/vc_button][/vc_column][/vc_row]
URL:https://morriscenter.org/event/celebrating-the-music-of-john-williams/
LOCATION:Morris Performing Arts Center\, 211 N. Michigan Street\, South Bend\, IN\, 46601\, United States
CATEGORIES:Concerts
ATTACH;FMTTYPE=image/jpeg:https://morriscenter.org/wp-content/uploads/2025/06/POPS-3_Celebrating-the-Music-of-John-Williams.jpg
END:VEVENT
BEGIN:VEVENT
DTSTART;TZID=America/Indiana/Indianapolis:20260703T193000
DTEND;TZID=America/Indiana/Indianapolis:20260703T193000
DTSTAMP:20260425T094521
CREATED:20260423T131459Z
LAST-MODIFIED:20260423T131526Z
UID:10000918-1783107000-1783107000@morriscenter.org
SUMMARY:Shein Trust Community Series: Salute to Freedom with the South Bend Symphony Orchestra
DESCRIPTION:[vc_row row_height_percent=”0″ override_padding=”yes” h_padding=”0″ top_padding=”2″ bottom_padding=”4″ overlay_alpha=”50″ gutter_size=”3″ column_width_percent=”100″ shift_y=”0″ z_index=”0″ uncode_shortcode_id=”168309″][vc_column column_width_percent=”100″ gutter_size=”3″ overlay_alpha=”50″ shift_x=”0″ shift_y=”0″ shift_y_down=”0″ z_index=”0″ medium_width=”0″ mobile_width=”0″ width=”1/1″ uncode_shortcode_id=”200278″][vc_button button_color=”accent” size=”btn-lg” border_animation=”btn-ripple-in” custom_typo=”yes” font_family=”font-762333″ font_weight=”100″ text_transform=”uppercase” border_width=”0″ link=”url:https%3A%2F%2Fwww.etix.com%2Fticket%2Fp%2F39600323%2Fshein-trust-community-seriessalute-to-freedom-with-the-south-bend-symphony-orchestra-south-bend-morris-performing-arts-center” button_color_type=”uncode-palette” uncode_shortcode_id=”587132″]Get Free Tickets[/vc_button][vc_column_text uncode_shortcode_id=”928030″] \n\n\nThis admission-free community concert honors service and sacrifice with patriotic favorites and uplifting orchestral music. Join the South Bend Symphony Orchestra for an inspiring celebration of freedom at the Morris Performing Arts Center.\n\n\n\nThanks to Shein Trust’s generous support\, this family-friendly concert is free. \nEvent pass does not guarantee entry. Seating is first come\, first served. \n\n\n[/vc_column_text][/vc_column][/vc_row]
URL:https://morriscenter.org/event/salute-to-freedom-with-the-south-bend-symphony-orchestra/
LOCATION:Morris Performing Arts Center\, 211 N. Michigan Street\, South Bend\, IN\, 46601\, United States
CATEGORIES:Performance,Concerts,Symphony
ATTACH;FMTTYPE=image/jpeg:https://morriscenter.org/wp-content/uploads/2026/04/Lobby-Images_Carmina-Burana2web.jpg
END:VEVENT
END:VCALENDAR