BEGIN:VCALENDAR
VERSION:2.0
PRODID:-//Official Website of the Morris Performing Arts Center - ECPv6.15.20//NONSGML v1.0//EN
CALSCALE:GREGORIAN
METHOD:PUBLISH
X-WR-CALNAME:Official Website of the Morris Performing Arts Center
X-ORIGINAL-URL:https://morriscenter.org
X-WR-CALDESC:Events for Official Website of the Morris Performing Arts Center
REFRESH-INTERVAL;VALUE=DURATION:PT1H
X-Robots-Tag:noindex
X-PUBLISHED-TTL:PT1H
BEGIN:VTIMEZONE
TZID:America/Indiana/Indianapolis
BEGIN:DAYLIGHT
TZOFFSETFROM:-0500
TZOFFSETTO:-0400
TZNAME:EDT
DTSTART:20250309T070000
END:DAYLIGHT
BEGIN:STANDARD
TZOFFSETFROM:-0400
TZOFFSETTO:-0500
TZNAME:EST
DTSTART:20251102T060000
END:STANDARD
BEGIN:DAYLIGHT
TZOFFSETFROM:-0500
TZOFFSETTO:-0400
TZNAME:EDT
DTSTART:20260308T070000
END:DAYLIGHT
BEGIN:STANDARD
TZOFFSETFROM:-0400
TZOFFSETTO:-0500
TZNAME:EST
DTSTART:20261101T060000
END:STANDARD
BEGIN:DAYLIGHT
TZOFFSETFROM:-0500
TZOFFSETTO:-0400
TZNAME:EDT
DTSTART:20270314T070000
END:DAYLIGHT
BEGIN:STANDARD
TZOFFSETFROM:-0400
TZOFFSETTO:-0500
TZNAME:EST
DTSTART:20271107T060000
END:STANDARD
END:VTIMEZONE
BEGIN:VEVENT
DTSTART;TZID=America/Indiana/Indianapolis:20260425T190000
DTEND;TZID=America/Indiana/Indianapolis:20260425T190000
DTSTAMP:20260420T173410
CREATED:20260224T150018Z
LAST-MODIFIED:20260416T163258Z
UID:10000910-1777143600-1777143600@morriscenter.org
SUMMARY:Ricky Dillard & New G
DESCRIPTION:[vc_row row_height_percent=”0″ override_padding=”yes” h_padding=”0″ top_padding=”2″ bottom_padding=”4″ overlay_alpha=”50″ gutter_size=”3″ column_width_percent=”100″ shift_y=”0″ z_index=”0″ uncode_shortcode_id=”168309″][vc_column column_width_percent=”100″ gutter_size=”3″ overlay_alpha=”50″ shift_x=”0″ shift_y=”0″ shift_y_down=”0″ z_index=”0″ medium_width=”0″ mobile_width=”0″ width=”1/1″ uncode_shortcode_id=”200278″][vc_button button_color=”accent” size=”btn-lg” border_animation=”btn-ripple-in” custom_typo=”yes” font_family=”font-762333″ font_weight=”100″ text_transform=”uppercase” border_width=”0″ link=”url:https%3A%2F%2Fwww.etix.com%2Fticket%2Fp%2F77509649%2Fricky-dillard-new-g-south-bend-morris-performing-arts-center” button_color_type=”uncode-palette” uncode_shortcode_id=”173034″]Buy Tickets Now[/vc_button][vc_column_text uncode_shortcode_id=”186991″]Ricky Dillard\, known as “The Choirmaster\,” is a Grammy-nominated gospel music pioneer whose career spans more than three decades. Since releasing his debut in 1990\, he has remained a driving force in contemporary gospel\, earning multiple Grammy nominations\, Stellar Awards\, Dove Awards\, and an NAACP Image Award while consistently delivering chart-topping albums with his powerhouse ensemble\, New Generation Chorale (“New G”). \nA Chicago native\, Dillard’s influence extends beyond the church into film\, television\, and cross-genre collaborations\, including work with legendary artists and appearances in major productions. Renowned for his electrifying choir sound and innovative leadership\, he continues to shape and expand the global impact of gospel music for new generations. \nOpening Acts: Turrell O’Neal & the BHF Mass Choir; and Brent Easton \nGroup rates are available for 8+ tickets! Call the Morris Box Office at 574-235-9190 for more information.[/vc_column_text][/vc_column][/vc_row]
URL:https://morriscenter.org/event/ricky-dillard-new-g/
LOCATION:Morris Performing Arts Center\, 211 N. Michigan Street\, South Bend\, IN\, 46601\, United States
CATEGORIES:Performance,Concerts
ATTACH;FMTTYPE=image/jpeg:https://morriscenter.org/wp-content/uploads/2026/02/Ricky-Dillard-1920x1080web.jpg
END:VEVENT
END:VCALENDAR