BEGIN:VCALENDAR
VERSION:2.0
PRODID:-//Official Website of the Morris Performing Arts Center - ECPv6.15.20//NONSGML v1.0//EN
CALSCALE:GREGORIAN
METHOD:PUBLISH
X-ORIGINAL-URL:https://morriscenter.org
X-WR-CALDESC:Events for Official Website of the Morris Performing Arts Center
REFRESH-INTERVAL;VALUE=DURATION:PT1H
X-Robots-Tag:noindex
X-PUBLISHED-TTL:PT1H
BEGIN:VTIMEZONE
TZID:America/Indiana/Indianapolis
BEGIN:DAYLIGHT
TZOFFSETFROM:-0500
TZOFFSETTO:-0400
TZNAME:EDT
DTSTART:20240310T070000
END:DAYLIGHT
BEGIN:STANDARD
TZOFFSETFROM:-0400
TZOFFSETTO:-0500
TZNAME:EST
DTSTART:20241103T060000
END:STANDARD
BEGIN:DAYLIGHT
TZOFFSETFROM:-0500
TZOFFSETTO:-0400
TZNAME:EDT
DTSTART:20250309T070000
END:DAYLIGHT
BEGIN:STANDARD
TZOFFSETFROM:-0400
TZOFFSETTO:-0500
TZNAME:EST
DTSTART:20251102T060000
END:STANDARD
BEGIN:DAYLIGHT
TZOFFSETFROM:-0500
TZOFFSETTO:-0400
TZNAME:EDT
DTSTART:20260308T070000
END:DAYLIGHT
BEGIN:STANDARD
TZOFFSETFROM:-0400
TZOFFSETTO:-0500
TZNAME:EST
DTSTART:20261101T060000
END:STANDARD
END:VTIMEZONE
BEGIN:VEVENT
DTSTART;TZID=America/Indiana/Indianapolis:20250424T190000
DTEND;TZID=America/Indiana/Indianapolis:20250424T190000
DTSTAMP:20260419T155125
CREATED:20240909T140005Z
LAST-MODIFIED:20240908T135236Z
UID:10000721-1745521200-1745521200@morriscenter.org
SUMMARY:Annie
DESCRIPTION:[vc_row row_height_percent=”0″ override_padding=”yes” h_padding=”0″ top_padding=”2″ bottom_padding=”4″ overlay_alpha=”50″ gutter_size=”3″ column_width_percent=”100″ shift_y=”0″ z_index=”0″ uncode_shortcode_id=”168309″][vc_column column_width_percent=”100″ gutter_size=”3″ overlay_alpha=”50″ shift_x=”0″ shift_y=”0″ shift_y_down=”0″ z_index=”0″ medium_width=”0″ mobile_width=”0″ width=”1/1″ uncode_shortcode_id=”200278″][vc_button button_color=”accent” size=”btn-lg” border_animation=”btn-ripple-in” custom_typo=”yes” font_family=”font-762333″ font_weight=”100″ text_transform=”uppercase” border_width=”0″ link=”url:https%3A%2F%2Fwww.etix.com%2Fticket%2Fp%2F35624245%2Fannie-south-bend-morris-performing-arts-center” button_color_type=”uncode-palette” uncode_shortcode_id=”163964″]Buy Tickets Now[/vc_button][vc_column_text uncode_shortcode_id=”547258″] \nHolding onto hope when times are tough can take an awful lot of determination\, and sometimes\, an awful lot of determination comes in a surprisingly small package. Little Orphan Annie has reminded generations of theatergoers that sunshine is always right around the corner\, and now the best-loved musical of all time is set to return in a new production – just as you remember it and just when we need it most. \nAnnie\, directed by Jenn Thompson\, features the iconic book and score\, written by Tony Award®-winners Thomas Meehan\, Charles Strouse and Martin Charnin. This celebration of family\, optimism and the American spirit remains the ultimate cure for all the hard knocks life throws your way. \n[/vc_column_text][/vc_column][/vc_row]
URL:https://morriscenter.org/event/annie/
LOCATION:Morris Performing Arts Center\, 211 N. Michigan Street\, South Bend\, IN\, 46601\, United States
CATEGORIES:Broadway Shows,Performance,Musical
ATTACH;FMTTYPE=image/jpeg:https://morriscenter.org/wp-content/uploads/2024/09/ANNIE_1920x1080_NEW_nodate.jpg
END:VEVENT
END:VCALENDAR